BEGIN:VCALENDAR
VERSION:2.0
PRODID:-//WhiteChurch Parish - ECPv6.15.16//NONSGML v1.0//EN
CALSCALE:GREGORIAN
METHOD:PUBLISH
X-WR-CALNAME:WhiteChurch Parish
X-ORIGINAL-URL:https://whitechurchparish.com
X-WR-CALDESC:Events for WhiteChurch Parish
REFRESH-INTERVAL;VALUE=DURATION:PT1H
X-Robots-Tag:noindex
X-PUBLISHED-TTL:PT1H
BEGIN:VTIMEZONE
TZID:UTC
BEGIN:STANDARD
TZOFFSETFROM:+0000
TZOFFSETTO:+0000
TZNAME:UTC
DTSTART:20240101T000000
END:STANDARD
END:VTIMEZONE
BEGIN:VEVENT
DTSTART;TZID=UTC:20250608T083000
DTEND;TZID=UTC:20250608T083000
DTSTAMP:20260420T062922
CREATED:20250501T094654Z
LAST-MODIFIED:20250501T094654Z
UID:4509-1749371400-1749371400@whitechurchparish.com
SUMMARY:Holy Communion
DESCRIPTION:
URL:https://whitechurchparish.com/event/holy-communion-159/
END:VEVENT
BEGIN:VEVENT
DTSTART;TZID=UTC:20250604T103000
DTEND;TZID=UTC:20250604T103000
DTSTAMP:20260420T062922
CREATED:20250501T094607Z
LAST-MODIFIED:20250501T094607Z
UID:4507-1749033000-1749033000@whitechurchparish.com
SUMMARY:Holy Communion
DESCRIPTION:
URL:https://whitechurchparish.com/event/holy-communion-158/
END:VEVENT
BEGIN:VEVENT
DTSTART;TZID=UTC:20250601T103000
DTEND;TZID=UTC:20250601T103000
DTSTAMP:20260420T062922
CREATED:20250116T105623Z
LAST-MODIFIED:20250116T105623Z
UID:4133-1748773800-1748773800@whitechurchparish.com
SUMMARY:Confirmation Service
DESCRIPTION:
URL:https://whitechurchparish.com/event/confirmation-service/
END:VEVENT
BEGIN:VEVENT
DTSTART;TZID=UTC:20250601T083000
DTEND;TZID=UTC:20250601T083000
DTSTAMP:20260420T062922
CREATED:20250501T094527Z
LAST-MODIFIED:20250501T094527Z
UID:4505-1748766600-1748766600@whitechurchparish.com
SUMMARY:Holy Communion
DESCRIPTION:
URL:https://whitechurchparish.com/event/holy-communion-157/
END:VEVENT
BEGIN:VEVENT
DTSTART;TZID=UTC:20250529T190000
DTEND;TZID=UTC:20250529T190000
DTSTAMP:20260420T062922
CREATED:20250501T094352Z
LAST-MODIFIED:20250501T094352Z
UID:4503-1748545200-1748545200@whitechurchparish.com
SUMMARY:Holy Communion Ascension Day
DESCRIPTION:
URL:https://whitechurchparish.com/event/holy-communion-ascension-day/
END:VEVENT
BEGIN:VEVENT
DTSTART;TZID=UTC:20250528T103000
DTEND;TZID=UTC:20250528T103000
DTSTAMP:20260420T062922
CREATED:20250501T094310Z
LAST-MODIFIED:20250501T094310Z
UID:4501-1748428200-1748428200@whitechurchparish.com
SUMMARY:Holy Communion
DESCRIPTION:
URL:https://whitechurchparish.com/event/holy-communion-156/
END:VEVENT
BEGIN:VEVENT
DTSTART;TZID=UTC:20250525T103000
DTEND;TZID=UTC:20250525T103000
DTSTAMP:20260420T062922
CREATED:20250501T094201Z
LAST-MODIFIED:20250501T094201Z
UID:4499-1748169000-1748169000@whitechurchparish.com
SUMMARY:Morning Prayer with Holy Baptism of Lara Gibson McNamara
DESCRIPTION:
URL:https://whitechurchparish.com/event/morning-prayer-with-holy-baptism-of-lara-gibson-mcnamara/
END:VEVENT
BEGIN:VEVENT
DTSTART;TZID=UTC:20250525T083000
DTEND;TZID=UTC:20250525T083000
DTSTAMP:20260420T062922
CREATED:20250501T094055Z
LAST-MODIFIED:20250501T094055Z
UID:4497-1748161800-1748161800@whitechurchparish.com
SUMMARY:Holy Communion
DESCRIPTION:
URL:https://whitechurchparish.com/event/holy-communion-155/
END:VEVENT
BEGIN:VEVENT
DTSTART;TZID=UTC:20250521T103000
DTEND;TZID=UTC:20250521T103000
DTSTAMP:20260420T062922
CREATED:20250501T094003Z
LAST-MODIFIED:20250501T094003Z
UID:4495-1747823400-1747823400@whitechurchparish.com
SUMMARY:Holy Communion
DESCRIPTION:
URL:https://whitechurchparish.com/event/holy-communion-151/
END:VEVENT
BEGIN:VEVENT
DTSTART;TZID=UTC:20250518T103000
DTEND;TZID=UTC:20250518T103000
DTSTAMP:20260420T062922
CREATED:20250501T093635Z
LAST-MODIFIED:20250501T093635Z
UID:4493-1747564200-1747564200@whitechurchparish.com
SUMMARY:Holy Communion
DESCRIPTION:
URL:https://whitechurchparish.com/event/holy-communion-154/
END:VEVENT
BEGIN:VEVENT
DTSTART;TZID=UTC:20250518T083000
DTEND;TZID=UTC:20250518T083000
DTSTAMP:20260420T062922
CREATED:20250501T093606Z
LAST-MODIFIED:20250501T093606Z
UID:4491-1747557000-1747557000@whitechurchparish.com
SUMMARY:Holy Communion
DESCRIPTION:
URL:https://whitechurchparish.com/event/holy-communion-153/
END:VEVENT
BEGIN:VEVENT
DTSTART;TZID=UTC:20250516T200000
DTEND;TZID=UTC:20250516T200000
DTSTAMP:20260420T062922
CREATED:20250313T123448Z
LAST-MODIFIED:20250313T123448Z
UID:4338-1747425600-1747425600@whitechurchparish.com
SUMMARY:Parish and Primary School Table Quiz
DESCRIPTION:St. John’s GAA Club Ballinteer
URL:https://whitechurchparish.com/event/parish-and-primary-school-table-quiz/
END:VEVENT
BEGIN:VEVENT
DTSTART;TZID=UTC:20250514T103000
DTEND;TZID=UTC:20250514T103000
DTSTAMP:20260420T062922
CREATED:20250501T093121Z
LAST-MODIFIED:20250501T093121Z
UID:4485-1747218600-1747218600@whitechurchparish.com
SUMMARY:Holy Communion
DESCRIPTION:
URL:https://whitechurchparish.com/event/holy-communion-150/
END:VEVENT
BEGIN:VEVENT
DTSTART;TZID=UTC:20250511T103000
DTEND;TZID=UTC:20250511T103000
DTSTAMP:20260420T062922
CREATED:20250303T110729Z
LAST-MODIFIED:20250303T110729Z
UID:4280-1746959400-1746959400@whitechurchparish.com
SUMMARY:Holy Communion with Baptism
DESCRIPTION:Baptism of Harry Wesley Stanley
URL:https://whitechurchparish.com/event/holy-communion-with-baptism-2/
END:VEVENT
BEGIN:VEVENT
DTSTART;TZID=UTC:20250511T083000
DTEND;TZID=UTC:20250511T083000
DTSTAMP:20260420T062922
CREATED:20250501T093349Z
LAST-MODIFIED:20250501T093349Z
UID:4489-1746952200-1746952200@whitechurchparish.com
SUMMARY:Holy Communion
DESCRIPTION:
URL:https://whitechurchparish.com/event/holy-communion-152/
END:VEVENT
BEGIN:VEVENT
DTSTART;TZID=UTC:20250507T103000
DTEND;TZID=UTC:20250507T103000
DTSTAMP:20260420T062922
CREATED:20250501T093001Z
LAST-MODIFIED:20250501T093001Z
UID:4480-1746613800-1746613800@whitechurchparish.com
SUMMARY:Holy Communion
DESCRIPTION:
URL:https://whitechurchparish.com/event/holy-communion-148/
END:VEVENT
BEGIN:VEVENT
DTSTART;TZID=UTC:20250504T103000
DTEND;TZID=UTC:20250504T103000
DTSTAMP:20260420T062922
CREATED:20250501T092606Z
LAST-MODIFIED:20250501T092909Z
UID:4477-1746354600-1746354600@whitechurchparish.com
SUMMARY:Holy Communion
DESCRIPTION:
URL:https://whitechurchparish.com/event/holy-communion-147/
END:VEVENT
BEGIN:VEVENT
DTSTART;TZID=UTC:20250504T083000
DTEND;TZID=UTC:20250504T083000
DTSTAMP:20260420T062922
CREATED:20250414T103333Z
LAST-MODIFIED:20250414T103333Z
UID:4407-1746347400-1746347400@whitechurchparish.com
SUMMARY:Holy Communion
DESCRIPTION:
URL:https://whitechurchparish.com/event/holy-communion-146/
END:VEVENT
BEGIN:VEVENT
DTSTART;TZID=UTC:20250501T083000
DTEND;TZID=UTC:20250501T083000
DTSTAMP:20260420T062922
CREATED:20250501T093043Z
LAST-MODIFIED:20250501T093043Z
UID:4483-1746088200-1746088200@whitechurchparish.com
SUMMARY:Holy Communion
DESCRIPTION:
URL:https://whitechurchparish.com/event/holy-communion-149/
END:VEVENT
BEGIN:VEVENT
DTSTART;TZID=UTC:20250430T083000
DTEND;TZID=UTC:20250430T083000
DTSTAMP:20260420T062922
CREATED:20250414T103019Z
LAST-MODIFIED:20250414T103019Z
UID:4405-1746001800-1746001800@whitechurchparish.com
SUMMARY:Holy Communion
DESCRIPTION:
URL:https://whitechurchparish.com/event/holy-communion-145/
END:VEVENT
BEGIN:VEVENT
DTSTART;TZID=UTC:20250427T103000
DTEND;TZID=UTC:20250427T103000
DTSTAMP:20260420T062922
CREATED:20250303T110543Z
LAST-MODIFIED:20250414T103725Z
UID:4278-1745749800-1745749800@whitechurchparish.com
SUMMARY:Morning Prayer with Baptism
DESCRIPTION:Baptism of Rowan McCarthy-Neal
URL:https://whitechurchparish.com/event/holy-communion-with-baptism/
END:VEVENT
BEGIN:VEVENT
DTSTART;TZID=UTC:20250427T083000
DTEND;TZID=UTC:20250427T083000
DTSTAMP:20260420T062922
CREATED:20250414T102837Z
LAST-MODIFIED:20250414T102837Z
UID:4403-1745742600-1745742600@whitechurchparish.com
SUMMARY:Holy Communion
DESCRIPTION:
URL:https://whitechurchparish.com/event/holy-communion-144/
END:VEVENT
BEGIN:VEVENT
DTSTART;TZID=UTC:20250426T093000
DTEND;TZID=UTC:20250426T093000
DTSTAMP:20260420T062922
CREATED:20241128T120158Z
LAST-MODIFIED:20241128T120158Z
UID:4036-1745659800-1745659800@whitechurchparish.com
SUMMARY:Ladies Breakfast
DESCRIPTION:The Stables
URL:https://whitechurchparish.com/event/ladies-breakfast/
END:VEVENT
BEGIN:VEVENT
DTSTART;TZID=UTC:20250423T103000
DTEND;TZID=UTC:20250423T103000
DTSTAMP:20260420T062922
CREATED:20250414T102602Z
LAST-MODIFIED:20250414T102602Z
UID:4401-1745404200-1745404200@whitechurchparish.com
SUMMARY:Holy Communion
DESCRIPTION:
URL:https://whitechurchparish.com/event/holy-communion-143/
END:VEVENT
BEGIN:VEVENT
DTSTART;TZID=UTC:20250420T103000
DTEND;TZID=UTC:20250420T103000
DTSTAMP:20260420T062922
CREATED:20250303T110413Z
LAST-MODIFIED:20250303T110413Z
UID:4276-1745145000-1745145000@whitechurchparish.com
SUMMARY:Holy Communion
DESCRIPTION:
URL:https://whitechurchparish.com/event/holy-communion-136/
END:VEVENT
BEGIN:VEVENT
DTSTART;TZID=UTC:20250420T083000
DTEND;TZID=UTC:20250420T083000
DTSTAMP:20260420T062922
CREATED:20250303T110328Z
LAST-MODIFIED:20250303T110328Z
UID:4274-1745137800-1745137800@whitechurchparish.com
SUMMARY:Holy Communion
DESCRIPTION:
URL:https://whitechurchparish.com/event/holy-communion-135/
END:VEVENT
BEGIN:VEVENT
DTSTART;TZID=UTC:20250420T055500
DTEND;TZID=UTC:20250420T055500
DTSTAMP:20260420T062922
CREATED:20250303T110157Z
LAST-MODIFIED:20250303T110157Z
UID:4272-1745128500-1745128500@whitechurchparish.com
SUMMARY:Ecumenical Sonrise Service Montpelier Hill
DESCRIPTION:
URL:https://whitechurchparish.com/event/ecumenical-sonrise-service-montpelier-hill/
END:VEVENT
BEGIN:VEVENT
DTSTART;TZID=UTC:20250418T190000
DTEND;TZID=UTC:20250418T190000
DTSTAMP:20260420T062922
CREATED:20250303T105843Z
LAST-MODIFIED:20250303T105843Z
UID:4270-1745002800-1745002800@whitechurchparish.com
SUMMARY:Good Friday Service
DESCRIPTION:Speaker Dr. Bridget Nichols
URL:https://whitechurchparish.com/event/good-friday-service/
END:VEVENT
BEGIN:VEVENT
DTSTART;TZID=UTC:20250417T190000
DTEND;TZID=UTC:20250417T190000
DTSTAMP:20260420T062922
CREATED:20250303T105743Z
LAST-MODIFIED:20250303T105743Z
UID:4268-1744916400-1744916400@whitechurchparish.com
SUMMARY:Service of the Word
DESCRIPTION:Speaker Dr. Bridget Nichols
URL:https://whitechurchparish.com/event/service-of-the-word-4/
END:VEVENT
BEGIN:VEVENT
DTSTART;TZID=UTC:20250416T190000
DTEND;TZID=UTC:20250416T190000
DTSTAMP:20260420T062922
CREATED:20250303T105643Z
LAST-MODIFIED:20250303T105643Z
UID:4266-1744830000-1744830000@whitechurchparish.com
SUMMARY:Service of the Word
DESCRIPTION:Speaker Dr. Bridget Nichols
URL:https://whitechurchparish.com/event/service-of-the-word-3/
END:VEVENT
END:VCALENDAR