BEGIN:VCALENDAR
VERSION:2.0
PRODID:-//WhiteChurch Parish - ECPv6.15.16//NONSGML v1.0//EN
CALSCALE:GREGORIAN
METHOD:PUBLISH
X-WR-CALNAME:WhiteChurch Parish
X-ORIGINAL-URL:https://whitechurchparish.com
X-WR-CALDESC:Events for WhiteChurch Parish
REFRESH-INTERVAL;VALUE=DURATION:PT1H
X-Robots-Tag:noindex
X-PUBLISHED-TTL:PT1H
BEGIN:VTIMEZONE
TZID:UTC
BEGIN:STANDARD
TZOFFSETFROM:+0000
TZOFFSETTO:+0000
TZNAME:UTC
DTSTART:20240101T000000
END:STANDARD
END:VTIMEZONE
BEGIN:VEVENT
DTSTART;TZID=UTC:20250420T103000
DTEND;TZID=UTC:20250420T103000
DTSTAMP:20260420T064153
CREATED:20250303T110413Z
LAST-MODIFIED:20250303T110413Z
UID:4276-1745145000-1745145000@whitechurchparish.com
SUMMARY:Holy Communion
DESCRIPTION:
URL:https://whitechurchparish.com/event/holy-communion-136/
END:VEVENT
BEGIN:VEVENT
DTSTART;TZID=UTC:20250420T083000
DTEND;TZID=UTC:20250420T083000
DTSTAMP:20260420T064153
CREATED:20250303T110328Z
LAST-MODIFIED:20250303T110328Z
UID:4274-1745137800-1745137800@whitechurchparish.com
SUMMARY:Holy Communion
DESCRIPTION:
URL:https://whitechurchparish.com/event/holy-communion-135/
END:VEVENT
BEGIN:VEVENT
DTSTART;TZID=UTC:20250420T055500
DTEND;TZID=UTC:20250420T055500
DTSTAMP:20260420T064153
CREATED:20250303T110157Z
LAST-MODIFIED:20250303T110157Z
UID:4272-1745128500-1745128500@whitechurchparish.com
SUMMARY:Ecumenical Sonrise Service Montpelier Hill
DESCRIPTION:
URL:https://whitechurchparish.com/event/ecumenical-sonrise-service-montpelier-hill/
END:VEVENT
BEGIN:VEVENT
DTSTART;TZID=UTC:20250418T190000
DTEND;TZID=UTC:20250418T190000
DTSTAMP:20260420T064153
CREATED:20250303T105843Z
LAST-MODIFIED:20250303T105843Z
UID:4270-1745002800-1745002800@whitechurchparish.com
SUMMARY:Good Friday Service
DESCRIPTION:Speaker Dr. Bridget Nichols
URL:https://whitechurchparish.com/event/good-friday-service/
END:VEVENT
BEGIN:VEVENT
DTSTART;TZID=UTC:20250417T190000
DTEND;TZID=UTC:20250417T190000
DTSTAMP:20260420T064153
CREATED:20250303T105743Z
LAST-MODIFIED:20250303T105743Z
UID:4268-1744916400-1744916400@whitechurchparish.com
SUMMARY:Service of the Word
DESCRIPTION:Speaker Dr. Bridget Nichols
URL:https://whitechurchparish.com/event/service-of-the-word-4/
END:VEVENT
BEGIN:VEVENT
DTSTART;TZID=UTC:20250416T190000
DTEND;TZID=UTC:20250416T190000
DTSTAMP:20260420T064153
CREATED:20250303T105643Z
LAST-MODIFIED:20250303T105643Z
UID:4266-1744830000-1744830000@whitechurchparish.com
SUMMARY:Service of the Word
DESCRIPTION:Speaker Dr. Bridget Nichols
URL:https://whitechurchparish.com/event/service-of-the-word-3/
END:VEVENT
BEGIN:VEVENT
DTSTART;TZID=UTC:20250412T091500
DTEND;TZID=UTC:20250412T091500
DTSTAMP:20260420T064153
CREATED:20250303T105514Z
LAST-MODIFIED:20250303T105514Z
UID:4264-1744449300-1744449300@whitechurchparish.com
SUMMARY:Men's Breakfast - Rathfarnham Golf Club
DESCRIPTION:
URL:https://whitechurchparish.com/event/mens-breakfast-rathfarnham-golf-club/
END:VEVENT
BEGIN:VEVENT
DTSTART;TZID=UTC:20250408T190000
DTEND;TZID=UTC:20250408T190000
DTSTAMP:20260420T064153
CREATED:20250303T105349Z
LAST-MODIFIED:20250303T105349Z
UID:4262-1744138800-1744138800@whitechurchparish.com
SUMMARY:Easter General Vestry
DESCRIPTION:
URL:https://whitechurchparish.com/event/easter-general-vestry/
END:VEVENT
BEGIN:VEVENT
DTSTART;TZID=UTC:20250405T120000
DTEND;TZID=UTC:20250405T150000
DTSTAMP:20260420T064153
CREATED:20241128T120107Z
LAST-MODIFIED:20241128T120107Z
UID:4034-1743854400-1743865200@whitechurchparish.com
SUMMARY:Spring Fete
DESCRIPTION:Whitechurch National School
URL:https://whitechurchparish.com/event/spring-fete/
END:VEVENT
BEGIN:VEVENT
DTSTART;TZID=UTC:20250402T103000
DTEND;TZID=UTC:20250402T103000
DTSTAMP:20260420T064153
CREATED:20250303T111313Z
LAST-MODIFIED:20250303T111313Z
UID:4290-1743589800-1743589800@whitechurchparish.com
SUMMARY:Holy Communion
DESCRIPTION:
URL:https://whitechurchparish.com/event/holy-communion-141/
END:VEVENT
BEGIN:VEVENT
DTSTART;TZID=UTC:20250330T103000
DTEND;TZID=UTC:20250330T103000
DTSTAMP:20260420T064153
CREATED:20250303T105255Z
LAST-MODIFIED:20250303T105255Z
UID:4260-1743330600-1743330600@whitechurchparish.com
SUMMARY:Holy Communion
DESCRIPTION:
URL:https://whitechurchparish.com/event/holy-communion-134/
END:VEVENT
BEGIN:VEVENT
DTSTART;TZID=UTC:20250330T083000
DTEND;TZID=UTC:20250330T083000
DTSTAMP:20260420T064153
CREATED:20250303T105206Z
LAST-MODIFIED:20250303T105206Z
UID:4257-1743323400-1743323400@whitechurchparish.com
SUMMARY:Holy Communion
DESCRIPTION:
URL:https://whitechurchparish.com/event/holy-communion-133/
END:VEVENT
BEGIN:VEVENT
DTSTART;TZID=UTC:20250328T103000
DTEND;TZID=UTC:20250328T130000
DTSTAMP:20260420T064153
CREATED:20250130T121156Z
LAST-MODIFIED:20250130T121156Z
UID:4189-1743157800-1743166800@whitechurchparish.com
SUMMARY:Daffodil Day
DESCRIPTION:Old Schools
URL:https://whitechurchparish.com/event/daffodil-day/
END:VEVENT
BEGIN:VEVENT
DTSTART;TZID=UTC:20250326T103000
DTEND;TZID=UTC:20250326T103000
DTSTAMP:20260420T064153
CREATED:20250303T111244Z
LAST-MODIFIED:20250303T111244Z
UID:4288-1742985000-1742985000@whitechurchparish.com
SUMMARY:Holy Communion
DESCRIPTION:
URL:https://whitechurchparish.com/event/holy-communion-140/
END:VEVENT
BEGIN:VEVENT
DTSTART;TZID=UTC:20250323T103000
DTEND;TZID=UTC:20250323T103000
DTSTAMP:20260420T064153
CREATED:20250303T104956Z
LAST-MODIFIED:20250303T104956Z
UID:4251-1742725800-1742725800@whitechurchparish.com
SUMMARY:Morning Prayer
DESCRIPTION:
URL:https://whitechurchparish.com/event/morning-prayer-24/
END:VEVENT
BEGIN:VEVENT
DTSTART;TZID=UTC:20250323T083000
DTEND;TZID=UTC:20250323T083000
DTSTAMP:20260420T064153
CREATED:20250303T104912Z
LAST-MODIFIED:20250303T104912Z
UID:4249-1742718600-1742718600@whitechurchparish.com
SUMMARY:Holy Communion
DESCRIPTION:
URL:https://whitechurchparish.com/event/holy-communion-132/
END:VEVENT
BEGIN:VEVENT
DTSTART;TZID=UTC:20250321T183000
DTEND;TZID=UTC:20250321T183000
DTSTAMP:20260420T064153
CREATED:20250313T123209Z
LAST-MODIFIED:20250313T123209Z
UID:4336-1742581800-1742581800@whitechurchparish.com
SUMMARY:Junior Youth Club
DESCRIPTION:
URL:https://whitechurchparish.com/event/junior-youth-club-3/
END:VEVENT
BEGIN:VEVENT
DTSTART;TZID=UTC:20250319T103000
DTEND;TZID=UTC:20250319T103000
DTSTAMP:20260420T064153
CREATED:20250303T111214Z
LAST-MODIFIED:20250303T111214Z
UID:4286-1742380200-1742380200@whitechurchparish.com
SUMMARY:Holy Communion
DESCRIPTION:
URL:https://whitechurchparish.com/event/holy-communion-139/
END:VEVENT
BEGIN:VEVENT
DTSTART;TZID=UTC:20250316T103000
DTEND;TZID=UTC:20250316T103000
DTSTAMP:20260420T064153
CREATED:20250303T104838Z
LAST-MODIFIED:20250303T104838Z
UID:4247-1742121000-1742121000@whitechurchparish.com
SUMMARY:Holy Communion
DESCRIPTION:
URL:https://whitechurchparish.com/event/holy-communion-131/
END:VEVENT
BEGIN:VEVENT
DTSTART;TZID=UTC:20250316T083000
DTEND;TZID=UTC:20250316T083000
DTSTAMP:20260420T064153
CREATED:20250303T111547Z
LAST-MODIFIED:20250303T111547Z
UID:4292-1742113800-1742113800@whitechurchparish.com
SUMMARY:Holy Communion
DESCRIPTION:
URL:https://whitechurchparish.com/event/holy-communion-142/
END:VEVENT
BEGIN:VEVENT
DTSTART;TZID=UTC:20250313T103000
DTEND;TZID=UTC:20250313T103000
DTSTAMP:20260420T064153
CREATED:20250313T123710Z
LAST-MODIFIED:20250313T123710Z
UID:4340-1741861800-1741861800@whitechurchparish.com
SUMMARY:Palm Sunday Service - Procession with Dolly the Donkey
DESCRIPTION:Immediately Followed by Famine Lunch
URL:https://whitechurchparish.com/event/palm-sunday-service-procession-with-dolly-the-donkey/
END:VEVENT
BEGIN:VEVENT
DTSTART;TZID=UTC:20250312T103000
DTEND;TZID=UTC:20250312T103000
DTSTAMP:20260420T064153
CREATED:20250303T111147Z
LAST-MODIFIED:20250303T111147Z
UID:4284-1741775400-1741775400@whitechurchparish.com
SUMMARY:Holy Communion
DESCRIPTION:
URL:https://whitechurchparish.com/event/holy-communion-138/
END:VEVENT
BEGIN:VEVENT
DTSTART;TZID=UTC:20250309T103000
DTEND;TZID=UTC:20250309T103000
DTSTAMP:20260420T064153
CREATED:20250303T104706Z
LAST-MODIFIED:20250303T104706Z
UID:4242-1741516200-1741516200@whitechurchparish.com
SUMMARY:Morning Prayer
DESCRIPTION:
URL:https://whitechurchparish.com/event/morning-prayer-23/
END:VEVENT
BEGIN:VEVENT
DTSTART;TZID=UTC:20250309T083000
DTEND;TZID=UTC:20250309T083000
DTSTAMP:20260420T064153
CREATED:20250303T104550Z
LAST-MODIFIED:20250303T104550Z
UID:4240-1741509000-1741509000@whitechurchparish.com
SUMMARY:Holy Communion
DESCRIPTION:
URL:https://whitechurchparish.com/event/holy-communion-129/
END:VEVENT
BEGIN:VEVENT
DTSTART;TZID=UTC:20250305T193000
DTEND;TZID=UTC:20250305T193000
DTSTAMP:20260420T064153
CREATED:20250130T121040Z
LAST-MODIFIED:20250130T121040Z
UID:4187-1741203000-1741203000@whitechurchparish.com
SUMMARY:Confirmation Class
DESCRIPTION:Following Ash Wednesday Service
URL:https://whitechurchparish.com/event/confirmation-class/
END:VEVENT
BEGIN:VEVENT
DTSTART;TZID=UTC:20250305T190000
DTEND;TZID=UTC:20250305T190000
DTSTAMP:20260420T064153
CREATED:20250116T105844Z
LAST-MODIFIED:20250116T105844Z
UID:4137-1741201200-1741201200@whitechurchparish.com
SUMMARY:Ash Wednesday Service
DESCRIPTION:
URL:https://whitechurchparish.com/event/ash-wednesday-service/
END:VEVENT
BEGIN:VEVENT
DTSTART;TZID=UTC:20250305T103000
DTEND;TZID=UTC:20250305T103000
DTSTAMP:20260420T064153
CREATED:20250303T111107Z
LAST-MODIFIED:20250303T111107Z
UID:4282-1741170600-1741170600@whitechurchparish.com
SUMMARY:Holy Communion
DESCRIPTION:
URL:https://whitechurchparish.com/event/holy-communion-137/
END:VEVENT
BEGIN:VEVENT
DTSTART;TZID=UTC:20250303T083000
DTEND;TZID=UTC:20250303T083000
DTSTAMP:20260420T064153
CREATED:20250303T104742Z
LAST-MODIFIED:20250303T104742Z
UID:4244-1740990600-1740990600@whitechurchparish.com
SUMMARY:Holy Communion
DESCRIPTION:
URL:https://whitechurchparish.com/event/holy-communion-130/
END:VEVENT
BEGIN:VEVENT
DTSTART;TZID=UTC:20250223T103000
DTEND;TZID=UTC:20250223T103000
DTSTAMP:20260420T064153
CREATED:20250129T100936Z
LAST-MODIFIED:20250130T120751Z
UID:4173-1740306600-1740306600@whitechurchparish.com
SUMMARY:Morning Prayer
DESCRIPTION:Thinking and Founder’s Day Parade Service
URL:https://whitechurchparish.com/event/morning-prayer-22/
END:VEVENT
BEGIN:VEVENT
DTSTART;TZID=UTC:20250223T083000
DTEND;TZID=UTC:20250223T083000
DTSTAMP:20260420T064153
CREATED:20250129T100859Z
LAST-MODIFIED:20250129T100859Z
UID:4171-1740299400-1740299400@whitechurchparish.com
SUMMARY:Holy Communion
DESCRIPTION:
URL:https://whitechurchparish.com/event/holy-communion-128/
END:VEVENT
END:VCALENDAR