BEGIN:VCALENDAR
VERSION:2.0
PRODID:-//WhiteChurch Parish - ECPv6.15.16//NONSGML v1.0//EN
CALSCALE:GREGORIAN
METHOD:PUBLISH
X-WR-CALNAME:WhiteChurch Parish
X-ORIGINAL-URL:https://whitechurchparish.com
X-WR-CALDESC:Events for WhiteChurch Parish
REFRESH-INTERVAL;VALUE=DURATION:PT1H
X-Robots-Tag:noindex
X-PUBLISHED-TTL:PT1H
BEGIN:VTIMEZONE
TZID:UTC
BEGIN:STANDARD
TZOFFSETFROM:+0000
TZOFFSETTO:+0000
TZNAME:UTC
DTSTART:20230101T000000
END:STANDARD
END:VTIMEZONE
BEGIN:VEVENT
DTSTART;TZID=UTC:20250305T193000
DTEND;TZID=UTC:20250305T193000
DTSTAMP:20260420T094014
CREATED:20250130T121040Z
LAST-MODIFIED:20250130T121040Z
UID:4187-1741203000-1741203000@whitechurchparish.com
SUMMARY:Confirmation Class
DESCRIPTION:Following Ash Wednesday Service
URL:https://whitechurchparish.com/event/confirmation-class/
END:VEVENT
BEGIN:VEVENT
DTSTART;TZID=UTC:20250305T190000
DTEND;TZID=UTC:20250305T190000
DTSTAMP:20260420T094014
CREATED:20250116T105844Z
LAST-MODIFIED:20250116T105844Z
UID:4137-1741201200-1741201200@whitechurchparish.com
SUMMARY:Ash Wednesday Service
DESCRIPTION:
URL:https://whitechurchparish.com/event/ash-wednesday-service/
END:VEVENT
BEGIN:VEVENT
DTSTART;TZID=UTC:20250305T103000
DTEND;TZID=UTC:20250305T103000
DTSTAMP:20260420T094014
CREATED:20250303T111107Z
LAST-MODIFIED:20250303T111107Z
UID:4282-1741170600-1741170600@whitechurchparish.com
SUMMARY:Holy Communion
DESCRIPTION:
URL:https://whitechurchparish.com/event/holy-communion-137/
END:VEVENT
BEGIN:VEVENT
DTSTART;TZID=UTC:20250303T083000
DTEND;TZID=UTC:20250303T083000
DTSTAMP:20260420T094014
CREATED:20250303T104742Z
LAST-MODIFIED:20250303T104742Z
UID:4244-1740990600-1740990600@whitechurchparish.com
SUMMARY:Holy Communion
DESCRIPTION:
URL:https://whitechurchparish.com/event/holy-communion-130/
END:VEVENT
BEGIN:VEVENT
DTSTART;TZID=UTC:20250223T103000
DTEND;TZID=UTC:20250223T103000
DTSTAMP:20260420T094014
CREATED:20250129T100936Z
LAST-MODIFIED:20250130T120751Z
UID:4173-1740306600-1740306600@whitechurchparish.com
SUMMARY:Morning Prayer
DESCRIPTION:Thinking and Founder’s Day Parade Service
URL:https://whitechurchparish.com/event/morning-prayer-22/
END:VEVENT
BEGIN:VEVENT
DTSTART;TZID=UTC:20250223T083000
DTEND;TZID=UTC:20250223T083000
DTSTAMP:20260420T094014
CREATED:20250129T100859Z
LAST-MODIFIED:20250129T100859Z
UID:4171-1740299400-1740299400@whitechurchparish.com
SUMMARY:Holy Communion
DESCRIPTION:
URL:https://whitechurchparish.com/event/holy-communion-128/
END:VEVENT
BEGIN:VEVENT
DTSTART;TZID=UTC:20250219T193000
DTEND;TZID=UTC:20250219T193000
DTSTAMP:20260420T094014
CREATED:20250130T120643Z
LAST-MODIFIED:20250130T120643Z
UID:4184-1739993400-1739993400@whitechurchparish.com
SUMMARY:Parents' Confirmation Meeting - The Stables
DESCRIPTION:
URL:https://whitechurchparish.com/event/parents-confirmation-meeting-the-stables/
END:VEVENT
BEGIN:VEVENT
DTSTART;TZID=UTC:20250219T103000
DTEND;TZID=UTC:20250219T103000
DTSTAMP:20260420T094014
CREATED:20250129T100312Z
LAST-MODIFIED:20250129T100312Z
UID:4169-1739961000-1739961000@whitechurchparish.com
SUMMARY:Holy Communion
DESCRIPTION:
URL:https://whitechurchparish.com/event/holy-communion-127/
END:VEVENT
BEGIN:VEVENT
DTSTART;TZID=UTC:20250216T103000
DTEND;TZID=UTC:20250216T103000
DTSTAMP:20260420T094014
CREATED:20250129T100210Z
LAST-MODIFIED:20250129T100741Z
UID:4167-1739701800-1739701800@whitechurchparish.com
SUMMARY:Holy Communion
DESCRIPTION:
URL:https://whitechurchparish.com/event/holy-communion-126/
END:VEVENT
BEGIN:VEVENT
DTSTART;TZID=UTC:20250216T083000
DTEND;TZID=UTC:20250216T083000
DTSTAMP:20260420T094014
CREATED:20250129T100137Z
LAST-MODIFIED:20250129T100137Z
UID:4165-1739694600-1739694600@whitechurchparish.com
SUMMARY:Holy Communion
DESCRIPTION:
URL:https://whitechurchparish.com/event/holy-communion-125/
END:VEVENT
BEGIN:VEVENT
DTSTART;TZID=UTC:20250212T103000
DTEND;TZID=UTC:20250212T103000
DTSTAMP:20260420T094014
CREATED:20250129T100103Z
LAST-MODIFIED:20250129T100627Z
UID:4163-1739356200-1739356200@whitechurchparish.com
SUMMARY:Holy Communion
DESCRIPTION:
URL:https://whitechurchparish.com/event/holy-communion-124/
END:VEVENT
BEGIN:VEVENT
DTSTART;TZID=UTC:20250209T103000
DTEND;TZID=UTC:20250209T103000
DTSTAMP:20260420T094014
CREATED:20250129T095853Z
LAST-MODIFIED:20250129T100020Z
UID:4160-1739097000-1739097000@whitechurchparish.com
SUMMARY:Morning Prayer
DESCRIPTION:
URL:https://whitechurchparish.com/event/holy-communion-123/
END:VEVENT
BEGIN:VEVENT
DTSTART;TZID=UTC:20250209T083000
DTEND;TZID=UTC:20250209T083000
DTSTAMP:20260420T094014
CREATED:20250129T095811Z
LAST-MODIFIED:20250129T100447Z
UID:4158-1739089800-1739089800@whitechurchparish.com
SUMMARY:Holy Communion
DESCRIPTION:
URL:https://whitechurchparish.com/event/holy-communion-122/
END:VEVENT
BEGIN:VEVENT
DTSTART;VALUE=DATE:20250209
DTEND;VALUE=DATE:20250210
DTSTAMP:20260420T094014
CREATED:20250130T120535Z
LAST-MODIFIED:20250130T120535Z
UID:4182-1739059200-1739145599@whitechurchparish.com
SUMMARY:Senior Youth Club Bowling Trip
DESCRIPTION:Time to be Confirmed
URL:https://whitechurchparish.com/event/senior-youth-club-bowling-trip/
END:VEVENT
BEGIN:VEVENT
DTSTART;TZID=UTC:20250207T183000
DTEND;TZID=UTC:20250207T200000
DTSTAMP:20260420T094014
CREATED:20250130T120432Z
LAST-MODIFIED:20250130T120432Z
UID:4180-1738953000-1738958400@whitechurchparish.com
SUMMARY:Junior Youth Club
DESCRIPTION:
URL:https://whitechurchparish.com/event/junior-youth-club-2/
END:VEVENT
BEGIN:VEVENT
DTSTART;TZID=UTC:20250205T103000
DTEND;TZID=UTC:20250205T103000
DTSTAMP:20260420T094014
CREATED:20250129T095630Z
LAST-MODIFIED:20250129T100407Z
UID:4155-1738751400-1738751400@whitechurchparish.com
SUMMARY:Holy Communion
DESCRIPTION:
URL:https://whitechurchparish.com/event/holy-communion-121/
END:VEVENT
BEGIN:VEVENT
DTSTART;TZID=UTC:20250202T103000
DTEND;TZID=UTC:20250202T103000
DTSTAMP:20260420T094014
CREATED:20250115T115524Z
LAST-MODIFIED:20250115T115524Z
UID:4127-1738492200-1738492200@whitechurchparish.com
SUMMARY:Holy Communion
DESCRIPTION:
URL:https://whitechurchparish.com/event/holy-communion-119/
END:VEVENT
BEGIN:VEVENT
DTSTART;TZID=UTC:20250202T083000
DTEND;TZID=UTC:20250202T083000
DTSTAMP:20260420T094014
CREATED:20250115T115446Z
LAST-MODIFIED:20250115T115446Z
UID:4125-1738485000-1738485000@whitechurchparish.com
SUMMARY:Holy Communion
DESCRIPTION:
URL:https://whitechurchparish.com/event/holy-communion-118/
END:VEVENT
BEGIN:VEVENT
DTSTART;TZID=UTC:20250129T103000
DTEND;TZID=UTC:20250129T103000
DTSTAMP:20260420T094014
CREATED:20250115T115558Z
LAST-MODIFIED:20250115T115558Z
UID:4129-1738146600-1738146600@whitechurchparish.com
SUMMARY:Holy Communion
DESCRIPTION:
URL:https://whitechurchparish.com/event/holy-communion-120/
END:VEVENT
BEGIN:VEVENT
DTSTART;TZID=UTC:20250126T163000
DTEND;TZID=UTC:20250126T163000
DTSTAMP:20260420T094014
CREATED:20250115T115338Z
LAST-MODIFIED:20250115T115338Z
UID:4123-1737909000-1737909000@whitechurchparish.com
SUMMARY:Children's Service
DESCRIPTION:
URL:https://whitechurchparish.com/event/childrens-service-2/
END:VEVENT
BEGIN:VEVENT
DTSTART;TZID=UTC:20250126T103000
DTEND;TZID=UTC:20250126T103000
DTSTAMP:20260420T094014
CREATED:20250115T115053Z
LAST-MODIFIED:20250115T115053Z
UID:4120-1737887400-1737887400@whitechurchparish.com
SUMMARY:Morning Prayer
DESCRIPTION:
URL:https://whitechurchparish.com/event/morning-prayer-21/
END:VEVENT
BEGIN:VEVENT
DTSTART;TZID=UTC:20250126T083000
DTEND;TZID=UTC:20250126T083000
DTSTAMP:20260420T094014
CREATED:20250115T115008Z
LAST-MODIFIED:20250115T115008Z
UID:4118-1737880200-1737880200@whitechurchparish.com
SUMMARY:Holy Communion
DESCRIPTION:
URL:https://whitechurchparish.com/event/holy-communion-117/
END:VEVENT
BEGIN:VEVENT
DTSTART;TZID=UTC:20250122T103000
DTEND;TZID=UTC:20250122T103000
DTSTAMP:20260420T094014
CREATED:20250115T114734Z
LAST-MODIFIED:20250115T115844Z
UID:4114-1737541800-1737541800@whitechurchparish.com
SUMMARY:Holy Communion
DESCRIPTION:
URL:https://whitechurchparish.com/event/holy-communion-115/
END:VEVENT
BEGIN:VEVENT
DTSTART;TZID=UTC:20250119T153000
DTEND;TZID=UTC:20250119T153000
DTSTAMP:20260420T094014
CREATED:20250115T114202Z
LAST-MODIFIED:20250115T114649Z
UID:4110-1737300600-1737300600@whitechurchparish.com
SUMMARY:Week of Prayer for Christian Unity
DESCRIPTION:Marley Grange Parish
URL:https://whitechurchparish.com/event/holy-communion-114/
END:VEVENT
BEGIN:VEVENT
DTSTART;TZID=UTC:20250119T103000
DTEND;TZID=UTC:20250119T103000
DTSTAMP:20260420T094014
CREATED:20250115T114925Z
LAST-MODIFIED:20250115T114925Z
UID:4116-1737282600-1737282600@whitechurchparish.com
SUMMARY:Holy Communion
DESCRIPTION:
URL:https://whitechurchparish.com/event/holy-communion-116/
END:VEVENT
BEGIN:VEVENT
DTSTART;TZID=UTC:20250119T083000
DTEND;TZID=UTC:20250119T083000
DTSTAMP:20260420T094014
CREATED:20250115T113933Z
LAST-MODIFIED:20250115T114124Z
UID:4106-1737275400-1737275400@whitechurchparish.com
SUMMARY:Holy Communion
DESCRIPTION:
URL:https://whitechurchparish.com/event/week-of-prayer-for-christian-unity/
END:VEVENT
BEGIN:VEVENT
DTSTART;VALUE=DATE:20250116
DTEND;VALUE=DATE:20250117
DTSTAMP:20260420T094014
CREATED:20250116T105711Z
LAST-MODIFIED:20250116T105711Z
UID:4135-1736985600-1737071999@whitechurchparish.com
SUMMARY:Inter Faith Golf Outing Rathfarnham Golf Club
DESCRIPTION:
URL:https://whitechurchparish.com/event/inter-faith-golf-outing-rathfarnham-golf-club/
END:VEVENT
BEGIN:VEVENT
DTSTART;TZID=UTC:20241229T103000
DTEND;TZID=UTC:20241229T103000
DTSTAMP:20260420T094014
CREATED:20241128T120000Z
LAST-MODIFIED:20241128T120000Z
UID:4032-1735468200-1735468200@whitechurchparish.com
SUMMARY:Holy Communion
DESCRIPTION:
URL:https://whitechurchparish.com/event/holy-communion-110/
END:VEVENT
BEGIN:VEVENT
DTSTART;TZID=UTC:20241229T083000
DTEND;TZID=UTC:20241229T083000
DTSTAMP:20260420T094014
CREATED:20241128T115923Z
LAST-MODIFIED:20241128T115923Z
UID:4030-1735461000-1735461000@whitechurchparish.com
SUMMARY:Holy Communion
DESCRIPTION:
URL:https://whitechurchparish.com/event/holy-communion-109/
END:VEVENT
BEGIN:VEVENT
DTSTART;TZID=UTC:20241225T103000
DTEND;TZID=UTC:20241225T103000
DTSTAMP:20260420T094014
CREATED:20241128T115845Z
LAST-MODIFIED:20241128T115845Z
UID:4028-1735122600-1735122600@whitechurchparish.com
SUMMARY:Holy Communion
DESCRIPTION:
URL:https://whitechurchparish.com/event/holy-communion-108/
END:VEVENT
END:VCALENDAR