BEGIN:VCALENDAR
VERSION:2.0
PRODID:-//WhiteChurch Parish - ECPv6.15.16//NONSGML v1.0//EN
CALSCALE:GREGORIAN
METHOD:PUBLISH
X-WR-CALNAME:WhiteChurch Parish
X-ORIGINAL-URL:https://whitechurchparish.com
X-WR-CALDESC:Events for WhiteChurch Parish
REFRESH-INTERVAL;VALUE=DURATION:PT1H
X-Robots-Tag:noindex
X-PUBLISHED-TTL:PT1H
BEGIN:VTIMEZONE
TZID:UTC
BEGIN:STANDARD
TZOFFSETFROM:+0000
TZOFFSETTO:+0000
TZNAME:UTC
DTSTART:20230101T000000
END:STANDARD
END:VTIMEZONE
BEGIN:VEVENT
DTSTART;TZID=UTC:20241222T083000
DTEND;TZID=UTC:20241222T083000
DTSTAMP:20260423T092516
CREATED:20241128T115235Z
LAST-MODIFIED:20241128T115235Z
UID:4018-1734856200-1734856200@whitechurchparish.com
SUMMARY:Holy Communion
DESCRIPTION:
URL:https://whitechurchparish.com/event/holy-communion-106/
END:VEVENT
BEGIN:VEVENT
DTSTART;TZID=UTC:20241221T143000
DTEND;TZID=UTC:20241221T143000
DTSTAMP:20260423T092516
CREATED:20241128T114642Z
LAST-MODIFIED:20241128T114703Z
UID:4006-1734791400-1734791400@whitechurchparish.com
SUMMARY:Ecumenical Carol Service
DESCRIPTION:Courtyard Marlay Park
URL:https://whitechurchparish.com/event/ecumenical-carol-service/
END:VEVENT
BEGIN:VEVENT
DTSTART;TZID=UTC:20241219T110000
DTEND;TZID=UTC:20241219T110000
DTSTAMP:20260423T092516
CREATED:20241128T114537Z
LAST-MODIFIED:20241128T114537Z
UID:4004-1734606000-1734606000@whitechurchparish.com
SUMMARY:Whitechurch NS Senior Carol Service
DESCRIPTION:
URL:https://whitechurchparish.com/event/whitechurch-ns-senior-carol-service/
END:VEVENT
BEGIN:VEVENT
DTSTART;TZID=UTC:20241218T190000
DTEND;TZID=UTC:20241218T190000
DTSTAMP:20260423T092516
CREATED:20241128T114359Z
LAST-MODIFIED:20241128T114359Z
UID:4002-1734548400-1734548400@whitechurchparish.com
SUMMARY:Blue Christmas
DESCRIPTION:
URL:https://whitechurchparish.com/event/blue-christmas/
END:VEVENT
BEGIN:VEVENT
DTSTART;TZID=UTC:20241218T103000
DTEND;TZID=UTC:20241218T103000
DTSTAMP:20260423T092516
CREATED:20241128T120931Z
LAST-MODIFIED:20241128T120931Z
UID:4045-1734517800-1734517800@whitechurchparish.com
SUMMARY:Holy Communion
DESCRIPTION:
URL:https://whitechurchparish.com/event/holy-communion-113/
END:VEVENT
BEGIN:VEVENT
DTSTART;TZID=UTC:20241215T103000
DTEND;TZID=UTC:20241215T103000
DTSTAMP:20260423T092516
CREATED:20241128T115031Z
LAST-MODIFIED:20241128T115031Z
UID:4013-1734258600-1734258600@whitechurchparish.com
SUMMARY:Holy Communion
DESCRIPTION:
URL:https://whitechurchparish.com/event/holy-communion-104/
END:VEVENT
BEGIN:VEVENT
DTSTART;TZID=UTC:20241215T083000
DTEND;TZID=UTC:20241215T083000
DTSTAMP:20260423T092516
CREATED:20241128T115153Z
LAST-MODIFIED:20241128T115153Z
UID:4016-1734251400-1734251400@whitechurchparish.com
SUMMARY:Holy Communion
DESCRIPTION:
URL:https://whitechurchparish.com/event/holy-communion-105/
END:VEVENT
BEGIN:VEVENT
DTSTART;TZID=UTC:20241211T103000
DTEND;TZID=UTC:20241211T103000
DTSTAMP:20260423T092516
CREATED:20241128T120853Z
LAST-MODIFIED:20241128T120853Z
UID:4043-1733913000-1733913000@whitechurchparish.com
SUMMARY:Holy Communion
DESCRIPTION:
URL:https://whitechurchparish.com/event/holy-communion-112/
END:VEVENT
BEGIN:VEVENT
DTSTART;TZID=UTC:20241208T103000
DTEND;TZID=UTC:20241208T103000
DTSTAMP:20260423T092516
CREATED:20241128T114920Z
LAST-MODIFIED:20241128T114920Z
UID:4011-1733653800-1733653800@whitechurchparish.com
SUMMARY:Morning Prayer
DESCRIPTION:
URL:https://whitechurchparish.com/event/morning-prayer-20/
END:VEVENT
BEGIN:VEVENT
DTSTART;TZID=UTC:20241208T083000
DTEND;TZID=UTC:20241208T083000
DTSTAMP:20260423T092516
CREATED:20241128T114849Z
LAST-MODIFIED:20241128T114849Z
UID:4009-1733646600-1733646600@whitechurchparish.com
SUMMARY:Holy Communion
DESCRIPTION:
URL:https://whitechurchparish.com/event/holy-communion-103/
END:VEVENT
BEGIN:VEVENT
DTSTART;TZID=UTC:20241204T103000
DTEND;TZID=UTC:20241204T103000
DTSTAMP:20260423T092516
CREATED:20241128T120825Z
LAST-MODIFIED:20241128T120825Z
UID:4041-1733308200-1733308200@whitechurchparish.com
SUMMARY:Holy Communion
DESCRIPTION:
URL:https://whitechurchparish.com/event/holy-communion-111/
END:VEVENT
BEGIN:VEVENT
DTSTART;TZID=UTC:20241201T180000
DTEND;TZID=UTC:20241201T180000
DTSTAMP:20260423T092516
CREATED:20241128T114310Z
LAST-MODIFIED:20241128T120548Z
UID:4000-1733076000-1733076000@whitechurchparish.com
SUMMARY:Children's Service
DESCRIPTION:Followed by Hot Dogs and Juice in Old Schools
URL:https://whitechurchparish.com/event/childrens-service/
END:VEVENT
BEGIN:VEVENT
DTSTART;TZID=UTC:20241201T103000
DTEND;TZID=UTC:20241201T103000
DTSTAMP:20260423T092516
CREATED:20241120T120020Z
LAST-MODIFIED:20241120T120020Z
UID:3971-1733049000-1733049000@whitechurchparish.com
SUMMARY:Holy Communion
DESCRIPTION:
URL:https://whitechurchparish.com/event/holy-communion-102/
END:VEVENT
BEGIN:VEVENT
DTSTART;TZID=UTC:20241201T083000
DTEND;TZID=UTC:20241201T083000
DTSTAMP:20260423T092516
CREATED:20241120T115945Z
LAST-MODIFIED:20241120T115945Z
UID:3969-1733041800-1733041800@whitechurchparish.com
SUMMARY:Holy Communion
DESCRIPTION:
URL:https://whitechurchparish.com/event/holy-communion-101/
END:VEVENT
BEGIN:VEVENT
DTSTART;TZID=UTC:20241129T183000
DTEND;TZID=UTC:20241129T200000
DTSTAMP:20260423T092516
CREATED:20241128T114153Z
LAST-MODIFIED:20241128T114153Z
UID:3997-1732905000-1732910400@whitechurchparish.com
SUMMARY:Junior Youth Club
DESCRIPTION:5th and 6th Class
URL:https://whitechurchparish.com/event/junior-youth-club/
END:VEVENT
BEGIN:VEVENT
DTSTART;TZID=UTC:20241127T103000
DTEND;TZID=UTC:20241127T103000
DTSTAMP:20260423T092516
CREATED:20241120T115853Z
LAST-MODIFIED:20241120T115853Z
UID:3966-1732703400-1732703400@whitechurchparish.com
SUMMARY:Holy Communion
DESCRIPTION:
URL:https://whitechurchparish.com/event/holy-communion-100/
END:VEVENT
BEGIN:VEVENT
DTSTART;TZID=UTC:20241124T103000
DTEND;TZID=UTC:20241124T103000
DTSTAMP:20260423T092516
CREATED:20241120T115658Z
LAST-MODIFIED:20241120T115658Z
UID:3964-1732444200-1732444200@whitechurchparish.com
SUMMARY:Morning Prayer
DESCRIPTION:
URL:https://whitechurchparish.com/event/morning-prayer-19/
END:VEVENT
BEGIN:VEVENT
DTSTART;TZID=UTC:20241124T083000
DTEND;TZID=UTC:20241124T083000
DTSTAMP:20260423T092516
CREATED:20241120T115609Z
LAST-MODIFIED:20241120T115609Z
UID:3961-1732437000-1732437000@whitechurchparish.com
SUMMARY:Holy Communion
DESCRIPTION:
URL:https://whitechurchparish.com/event/holy-communion-99/
END:VEVENT
BEGIN:VEVENT
DTSTART;TZID=UTC:20241120T103000
DTEND;TZID=UTC:20241120T103000
DTSTAMP:20260423T092516
CREATED:20241120T115536Z
LAST-MODIFIED:20241120T115536Z
UID:3959-1732098600-1732098600@whitechurchparish.com
SUMMARY:Holy Communion
DESCRIPTION:
URL:https://whitechurchparish.com/event/holy-communion-98/
END:VEVENT
BEGIN:VEVENT
DTSTART;TZID=UTC:20241117T103000
DTEND;TZID=UTC:20241117T103000
DTSTAMP:20260423T092516
CREATED:20241120T115457Z
LAST-MODIFIED:20241120T115457Z
UID:3957-1731839400-1731839400@whitechurchparish.com
SUMMARY:Holy Communion
DESCRIPTION:
URL:https://whitechurchparish.com/event/holy-communion-97/
END:VEVENT
BEGIN:VEVENT
DTSTART;TZID=UTC:20241117T083000
DTEND;TZID=UTC:20241117T083000
DTSTAMP:20260423T092516
CREATED:20241120T115423Z
LAST-MODIFIED:20241120T115423Z
UID:3955-1731832200-1731832200@whitechurchparish.com
SUMMARY:Holy Communion
DESCRIPTION:
URL:https://whitechurchparish.com/event/holy-communion-96/
END:VEVENT
BEGIN:VEVENT
DTSTART;TZID=UTC:20241113T103000
DTEND;TZID=UTC:20241113T103000
DTSTAMP:20260423T092516
CREATED:20241120T115243Z
LAST-MODIFIED:20241120T115243Z
UID:3950-1731493800-1731493800@whitechurchparish.com
SUMMARY:Holy Communion
DESCRIPTION:
URL:https://whitechurchparish.com/event/holy-communion-94/
END:VEVENT
BEGIN:VEVENT
DTSTART;TZID=UTC:20241110T103000
DTEND;TZID=UTC:20241110T103000
DTSTAMP:20260423T092516
CREATED:20241120T115152Z
LAST-MODIFIED:20241120T115152Z
UID:3948-1731234600-1731234600@whitechurchparish.com
SUMMARY:Morning Prayer
DESCRIPTION:
URL:https://whitechurchparish.com/event/morning-prayer-18/
END:VEVENT
BEGIN:VEVENT
DTSTART;TZID=UTC:20241110T083000
DTEND;TZID=UTC:20241110T083000
DTSTAMP:20260423T092516
CREATED:20241120T115333Z
LAST-MODIFIED:20241120T115333Z
UID:3953-1731227400-1731227400@whitechurchparish.com
SUMMARY:Holy Communion
DESCRIPTION:
URL:https://whitechurchparish.com/event/holy-communion-95/
END:VEVENT
BEGIN:VEVENT
DTSTART;TZID=UTC:20241103T083000
DTEND;TZID=UTC:20241103T083000
DTSTAMP:20260423T092516
CREATED:20241009T090026Z
LAST-MODIFIED:20241009T090026Z
UID:3834-1730622600-1730622600@whitechurchparish.com
SUMMARY:Holy Communion
DESCRIPTION:
URL:https://whitechurchparish.com/event/holy-communion-92/
END:VEVENT
BEGIN:VEVENT
DTSTART;TZID=UTC:20241030T103000
DTEND;TZID=UTC:20241030T103000
DTSTAMP:20260423T092516
CREATED:20241009T084851Z
LAST-MODIFIED:20241009T084851Z
UID:3824-1730284200-1730284200@whitechurchparish.com
SUMMARY:Holy Communion
DESCRIPTION:
URL:https://whitechurchparish.com/event/holy-communion-91/
END:VEVENT
BEGIN:VEVENT
DTSTART;TZID=UTC:20241027T103000
DTEND;TZID=UTC:20241027T103000
DTSTAMP:20260423T092516
CREATED:20241009T084817Z
LAST-MODIFIED:20241009T084817Z
UID:3822-1730025000-1730025000@whitechurchparish.com
SUMMARY:Holy Communion
DESCRIPTION:
URL:https://whitechurchparish.com/event/holy-communion-90/
END:VEVENT
BEGIN:VEVENT
DTSTART;TZID=UTC:20241027T083000
DTEND;TZID=UTC:20241027T083000
DTSTAMP:20260423T092516
CREATED:20241009T084738Z
LAST-MODIFIED:20241009T084738Z
UID:3820-1730017800-1730017800@whitechurchparish.com
SUMMARY:Holy Communion
DESCRIPTION:
URL:https://whitechurchparish.com/event/holy-communion-89/
END:VEVENT
BEGIN:VEVENT
DTSTART;TZID=UTC:20241023T103000
DTEND;TZID=UTC:20241023T103000
DTSTAMP:20260423T092516
CREATED:20241009T084649Z
LAST-MODIFIED:20241009T084649Z
UID:3818-1729679400-1729679400@whitechurchparish.com
SUMMARY:Holy Communion
DESCRIPTION:
URL:https://whitechurchparish.com/event/holy-communion-88/
END:VEVENT
BEGIN:VEVENT
DTSTART;TZID=UTC:20241020T190000
DTEND;TZID=UTC:20241020T190000
DTSTAMP:20260423T092516
CREATED:20241009T084556Z
LAST-MODIFIED:20241009T085524Z
UID:3816-1729450800-1729450800@whitechurchparish.com
SUMMARY:Harvest Thanksgiving
DESCRIPTION:Preacher: Rev’d Isobel Hawthorne-Steele
URL:https://whitechurchparish.com/event/harvest-thanksgiving-2/
END:VEVENT
END:VCALENDAR