BEGIN:VCALENDAR
VERSION:2.0
PRODID:-//WhiteChurch Parish - ECPv6.15.16//NONSGML v1.0//EN
CALSCALE:GREGORIAN
METHOD:PUBLISH
X-WR-CALNAME:WhiteChurch Parish
X-ORIGINAL-URL:https://whitechurchparish.com
X-WR-CALDESC:Events for WhiteChurch Parish
REFRESH-INTERVAL;VALUE=DURATION:PT1H
X-Robots-Tag:noindex
X-PUBLISHED-TTL:PT1H
BEGIN:VTIMEZONE
TZID:UTC
BEGIN:STANDARD
TZOFFSETFROM:+0000
TZOFFSETTO:+0000
TZNAME:UTC
DTSTART:20230101T000000
END:STANDARD
END:VTIMEZONE
BEGIN:VEVENT
DTSTART;TZID=UTC:20240901T103000
DTEND;TZID=UTC:20240901T103000
DTSTAMP:20260422T214942
CREATED:20240801T110344Z
LAST-MODIFIED:20240801T110344Z
UID:3679-1725186600-1725186600@whitechurchparish.com
SUMMARY:Holy Communion
DESCRIPTION:
URL:https://whitechurchparish.com/event/holy-communion-72/
END:VEVENT
BEGIN:VEVENT
DTSTART;TZID=UTC:20240901T083000
DTEND;TZID=UTC:20240901T083000
DTSTAMP:20260422T214942
CREATED:20240801T110313Z
LAST-MODIFIED:20240801T110313Z
UID:3677-1725179400-1725179400@whitechurchparish.com
SUMMARY:Holy Communion
DESCRIPTION:
URL:https://whitechurchparish.com/event/holy-communion-71/
END:VEVENT
BEGIN:VEVENT
DTSTART;TZID=UTC:20240828T103000
DTEND;TZID=UTC:20240828T103000
DTSTAMP:20260422T214942
CREATED:20240826T091636Z
LAST-MODIFIED:20240826T091636Z
UID:3705-1724841000-1724841000@whitechurchparish.com
SUMMARY:Holy Communion
DESCRIPTION:
URL:https://whitechurchparish.com/event/holy-communion-78/
END:VEVENT
BEGIN:VEVENT
DTSTART;TZID=UTC:20240825T103000
DTEND;TZID=UTC:20240825T103000
DTSTAMP:20260422T214942
CREATED:20240801T110151Z
LAST-MODIFIED:20240801T110151Z
UID:3675-1724581800-1724581800@whitechurchparish.com
SUMMARY:Morning Prayer
DESCRIPTION:
URL:https://whitechurchparish.com/event/morning-prayer-15/
END:VEVENT
BEGIN:VEVENT
DTSTART;TZID=UTC:20240825T083000
DTEND;TZID=UTC:20240825T083000
DTSTAMP:20260422T214942
CREATED:20240801T110114Z
LAST-MODIFIED:20240801T110114Z
UID:3673-1724574600-1724574600@whitechurchparish.com
SUMMARY:Holy Communion
DESCRIPTION:
URL:https://whitechurchparish.com/event/holy-communion-70/
END:VEVENT
BEGIN:VEVENT
DTSTART;TZID=UTC:20240818T103000
DTEND;TZID=UTC:20240818T103000
DTSTAMP:20260422T214942
CREATED:20240801T110001Z
LAST-MODIFIED:20240801T110001Z
UID:3669-1723977000-1723977000@whitechurchparish.com
SUMMARY:Holy Communion with Holy Baptism
DESCRIPTION:
URL:https://whitechurchparish.com/event/holy-communion-with-holy-baptism-2/
END:VEVENT
BEGIN:VEVENT
DTSTART;TZID=UTC:20240818T083000
DTEND;TZID=UTC:20240818T083000
DTSTAMP:20260422T214942
CREATED:20240801T110029Z
LAST-MODIFIED:20240801T110029Z
UID:3671-1723969800-1723969800@whitechurchparish.com
SUMMARY:Holy Communion
DESCRIPTION:
URL:https://whitechurchparish.com/event/holy-communion-69/
END:VEVENT
BEGIN:VEVENT
DTSTART;TZID=UTC:20240811T103000
DTEND;TZID=UTC:20240811T103000
DTSTAMP:20260422T214942
CREATED:20240801T105841Z
LAST-MODIFIED:20240801T105841Z
UID:3667-1723372200-1723372200@whitechurchparish.com
SUMMARY:Morning Prayer
DESCRIPTION:
URL:https://whitechurchparish.com/event/morning-prayer-14/
END:VEVENT
BEGIN:VEVENT
DTSTART;TZID=UTC:20240811T083000
DTEND;TZID=UTC:20240811T083000
DTSTAMP:20260422T214942
CREATED:20240801T105805Z
LAST-MODIFIED:20240801T105805Z
UID:3665-1723365000-1723365000@whitechurchparish.com
SUMMARY:Holy Communion
DESCRIPTION:
URL:https://whitechurchparish.com/event/holy-communion-68/
END:VEVENT
BEGIN:VEVENT
DTSTART;TZID=UTC:20240804T103000
DTEND;TZID=UTC:20240804T103000
DTSTAMP:20260422T214942
CREATED:20240801T105733Z
LAST-MODIFIED:20240801T105733Z
UID:3663-1722767400-1722767400@whitechurchparish.com
SUMMARY:Holy Communion
DESCRIPTION:
URL:https://whitechurchparish.com/event/holy-communion-67/
END:VEVENT
BEGIN:VEVENT
DTSTART;TZID=UTC:20240804T083000
DTEND;TZID=UTC:20240804T083000
DTSTAMP:20260422T214942
CREATED:20240801T105626Z
LAST-MODIFIED:20240801T105626Z
UID:3660-1722760200-1722760200@whitechurchparish.com
SUMMARY:Holy Communion
DESCRIPTION:
URL:https://whitechurchparish.com/event/holy-communion-66/
END:VEVENT
BEGIN:VEVENT
DTSTART;TZID=UTC:20240731T103000
DTEND;TZID=UTC:20240731T103000
DTSTAMP:20260422T214942
CREATED:20240611T103445Z
LAST-MODIFIED:20240611T103445Z
UID:3595-1722421800-1722421800@whitechurchparish.com
SUMMARY:Holy Communion
DESCRIPTION:
URL:https://whitechurchparish.com/event/holy-communion-59/
END:VEVENT
BEGIN:VEVENT
DTSTART;TZID=UTC:20240728T103000
DTEND;TZID=UTC:20240728T103000
DTSTAMP:20260422T214942
CREATED:20240625T111014Z
LAST-MODIFIED:20240625T111014Z
UID:3613-1722162600-1722162600@whitechurchparish.com
SUMMARY:Morning Prayer
DESCRIPTION:
URL:https://whitechurchparish.com/event/morning-prayer-13/
END:VEVENT
BEGIN:VEVENT
DTSTART;TZID=UTC:20240728T083000
DTEND;TZID=UTC:20240728T083000
DTSTAMP:20260422T214942
CREATED:20240625T110932Z
LAST-MODIFIED:20240625T110932Z
UID:3611-1722155400-1722155400@whitechurchparish.com
SUMMARY:Holy Communion
DESCRIPTION:
URL:https://whitechurchparish.com/event/holy-communion-65/
END:VEVENT
BEGIN:VEVENT
DTSTART;TZID=UTC:20240724T103000
DTEND;TZID=UTC:20240724T103000
DTSTAMP:20260422T214942
CREATED:20240611T103409Z
LAST-MODIFIED:20240625T110710Z
UID:3593-1721817000-1721817000@whitechurchparish.com
SUMMARY:Holy Communion
DESCRIPTION:
URL:https://whitechurchparish.com/event/holy-communion-58/
END:VEVENT
BEGIN:VEVENT
DTSTART;TZID=UTC:20240721T103000
DTEND;TZID=UTC:20240721T103000
DTSTAMP:20260422T214942
CREATED:20240625T110847Z
LAST-MODIFIED:20240625T110847Z
UID:3609-1721557800-1721557800@whitechurchparish.com
SUMMARY:Holy Communion
DESCRIPTION:
URL:https://whitechurchparish.com/event/holy-communion-64/
END:VEVENT
BEGIN:VEVENT
DTSTART;TZID=UTC:20240721T083000
DTEND;TZID=UTC:20240721T083000
DTSTAMP:20260422T214942
CREATED:20240625T110809Z
LAST-MODIFIED:20240625T110809Z
UID:3607-1721550600-1721550600@whitechurchparish.com
SUMMARY:Holy Communion
DESCRIPTION:
URL:https://whitechurchparish.com/event/holy-communion-63/
END:VEVENT
BEGIN:VEVENT
DTSTART;TZID=UTC:20240717T103000
DTEND;TZID=UTC:20240717T103000
DTSTAMP:20260422T214942
CREATED:20240611T103335Z
LAST-MODIFIED:20240611T103335Z
UID:3591-1721212200-1721212200@whitechurchparish.com
SUMMARY:Holy Communion
DESCRIPTION:
URL:https://whitechurchparish.com/event/holy-communion-57/
END:VEVENT
BEGIN:VEVENT
DTSTART;TZID=UTC:20240714T103000
DTEND;TZID=UTC:20240714T103000
DTSTAMP:20260422T214942
CREATED:20240625T110151Z
LAST-MODIFIED:20240625T110534Z
UID:3605-1720953000-1720953000@whitechurchparish.com
SUMMARY:Morning Prayer
DESCRIPTION:
URL:https://whitechurchparish.com/event/morning-prayer-12/
END:VEVENT
BEGIN:VEVENT
DTSTART;TZID=UTC:20240714T083000
DTEND;TZID=UTC:20240714T083000
DTSTAMP:20260422T214942
CREATED:20240625T110115Z
LAST-MODIFIED:20240625T110455Z
UID:3603-1720945800-1720945800@whitechurchparish.com
SUMMARY:Holy Communion
DESCRIPTION:
URL:https://whitechurchparish.com/event/holy-communion-62/
END:VEVENT
BEGIN:VEVENT
DTSTART;TZID=UTC:20240710T103000
DTEND;TZID=UTC:20240710T103000
DTSTAMP:20260422T214942
CREATED:20240611T103219Z
LAST-MODIFIED:20240611T103219Z
UID:3589-1720607400-1720607400@whitechurchparish.com
SUMMARY:Holy Communion
DESCRIPTION:
URL:https://whitechurchparish.com/event/holy-communion-56/
END:VEVENT
BEGIN:VEVENT
DTSTART;TZID=UTC:20240707T103000
DTEND;TZID=UTC:20240707T103000
DTSTAMP:20260422T214942
CREATED:20240625T110037Z
LAST-MODIFIED:20240625T110415Z
UID:3601-1720348200-1720348200@whitechurchparish.com
SUMMARY:Holy Communion
DESCRIPTION:
URL:https://whitechurchparish.com/event/holy-communion-61/
END:VEVENT
BEGIN:VEVENT
DTSTART;TZID=UTC:20240707T083000
DTEND;TZID=UTC:20240707T083000
DTSTAMP:20260422T214942
CREATED:20240625T105932Z
LAST-MODIFIED:20240625T110339Z
UID:3599-1720341000-1720341000@whitechurchparish.com
SUMMARY:Holy Communion
DESCRIPTION:
URL:https://whitechurchparish.com/event/holy-communion-60/
END:VEVENT
BEGIN:VEVENT
DTSTART;TZID=UTC:20240703T103000
DTEND;TZID=UTC:20240703T103000
DTSTAMP:20260422T214942
CREATED:20240611T103141Z
LAST-MODIFIED:20240611T103141Z
UID:3587-1720002600-1720002600@whitechurchparish.com
SUMMARY:Holy Communion
DESCRIPTION:
URL:https://whitechurchparish.com/event/holy-communion-55/
END:VEVENT
BEGIN:VEVENT
DTSTART;TZID=UTC:20240630T103000
DTEND;TZID=UTC:20240630T103000
DTSTAMP:20260422T214942
CREATED:20240604T102257Z
LAST-MODIFIED:20240604T102257Z
UID:3521-1719743400-1719743400@whitechurchparish.com
SUMMARY:Service of The Word
DESCRIPTION:
URL:https://whitechurchparish.com/event/service-of-the-word/
END:VEVENT
BEGIN:VEVENT
DTSTART;TZID=UTC:20240630T083000
DTEND;TZID=UTC:20240630T083000
DTSTAMP:20260422T214942
CREATED:20240604T101521Z
LAST-MODIFIED:20240604T101741Z
UID:3506-1719736200-1719736200@whitechurchparish.com
SUMMARY:Holy Communion
DESCRIPTION:
URL:https://whitechurchparish.com/event/holy-communion-47/
END:VEVENT
BEGIN:VEVENT
DTSTART;VALUE=DATE:20240627
DTEND;VALUE=DATE:20240628
DTSTAMP:20260422T214942
CREATED:20240228T101003Z
LAST-MODIFIED:20240228T101006Z
UID:3166-1719446400-1719532799@whitechurchparish.com
SUMMARY:Inter Faith Golf Outing - Grange Golf Club
DESCRIPTION:
URL:https://whitechurchparish.com/event/inter-faith-golf-outing-grange-golf-club/
END:VEVENT
BEGIN:VEVENT
DTSTART;TZID=UTC:20240626T103000
DTEND;TZID=UTC:20240626T103000
DTSTAMP:20260422T214942
CREATED:20240611T103056Z
LAST-MODIFIED:20240611T103056Z
UID:3585-1719397800-1719397800@whitechurchparish.com
SUMMARY:Holy Communion
DESCRIPTION:
URL:https://whitechurchparish.com/event/holy-communion-54/
END:VEVENT
BEGIN:VEVENT
DTSTART;TZID=UTC:20240623T103000
DTEND;TZID=UTC:20240623T103000
DTSTAMP:20260422T214942
CREATED:20240604T102212Z
LAST-MODIFIED:20240604T102212Z
UID:3519-1719138600-1719138600@whitechurchparish.com
SUMMARY:Morning Prayer
DESCRIPTION:
URL:https://whitechurchparish.com/event/morning-prayer-11/
END:VEVENT
BEGIN:VEVENT
DTSTART;TZID=UTC:20240623T083000
DTEND;TZID=UTC:20240623T083000
DTSTAMP:20260422T214942
CREATED:20240604T101956Z
LAST-MODIFIED:20240604T101956Z
UID:3513-1719131400-1719131400@whitechurchparish.com
SUMMARY:Holy Communion
DESCRIPTION:
URL:https://whitechurchparish.com/event/holy-communion-50/
END:VEVENT
END:VCALENDAR