BEGIN:VCALENDAR
VERSION:2.0
PRODID:-//WhiteChurch Parish - ECPv6.15.16//NONSGML v1.0//EN
CALSCALE:GREGORIAN
METHOD:PUBLISH
X-WR-CALNAME:WhiteChurch Parish
X-ORIGINAL-URL:https://whitechurchparish.com
X-WR-CALDESC:Events for WhiteChurch Parish
REFRESH-INTERVAL;VALUE=DURATION:PT1H
X-Robots-Tag:noindex
X-PUBLISHED-TTL:PT1H
BEGIN:VTIMEZONE
TZID:UTC
BEGIN:STANDARD
TZOFFSETFROM:+0000
TZOFFSETTO:+0000
TZNAME:UTC
DTSTART:20230101T000000
END:STANDARD
END:VTIMEZONE
BEGIN:VEVENT
DTSTART;TZID=UTC:20241020T083000
DTEND;TZID=UTC:20241020T083000
DTSTAMP:20260423T092826
CREATED:20241009T085734Z
LAST-MODIFIED:20241009T085734Z
UID:3832-1729413000-1729413000@whitechurchparish.com
SUMMARY:Holy Communion
DESCRIPTION:
URL:https://whitechurchparish.com/event/holy-communion-93/
END:VEVENT
BEGIN:VEVENT
DTSTART;TZID=UTC:20241016T103000
DTEND;TZID=UTC:20241016T103000
DTSTAMP:20260423T092826
CREATED:20241009T084242Z
LAST-MODIFIED:20241009T084242Z
UID:3812-1729074600-1729074600@whitechurchparish.com
SUMMARY:Holy Communion
DESCRIPTION:
URL:https://whitechurchparish.com/event/holy-communion-86/
END:VEVENT
BEGIN:VEVENT
DTSTART;TZID=UTC:20241013T170000
DTEND;TZID=UTC:20241013T170000
DTSTAMP:20260423T092826
CREATED:20241009T085113Z
LAST-MODIFIED:20241009T085222Z
UID:3828-1728838800-1728838800@whitechurchparish.com
SUMMARY:Youth Harvest
DESCRIPTION:Preacher: Rev’d Alan Breen
URL:https://whitechurchparish.com/event/youth-harvest-2/
END:VEVENT
BEGIN:VEVENT
DTSTART;TZID=UTC:20241013T103000
DTEND;TZID=UTC:20241013T103000
DTSTAMP:20260423T092826
CREATED:20241009T083618Z
LAST-MODIFIED:20241009T083618Z
UID:3809-1728815400-1728815400@whitechurchparish.com
SUMMARY:Holy Communion
DESCRIPTION:
URL:https://whitechurchparish.com/event/holy-communion-85/
END:VEVENT
BEGIN:VEVENT
DTSTART;TZID=UTC:20241013T083000
DTEND;TZID=UTC:20241013T083000
DTSTAMP:20260423T092826
CREATED:20241009T084355Z
LAST-MODIFIED:20241009T084355Z
UID:3814-1728808200-1728808200@whitechurchparish.com
SUMMARY:Holy Communion
DESCRIPTION:
URL:https://whitechurchparish.com/event/holy-communion-87/
END:VEVENT
BEGIN:VEVENT
DTSTART;TZID=UTC:20241009T103000
DTEND;TZID=UTC:20241009T103000
DTSTAMP:20260423T092826
CREATED:20241009T083233Z
LAST-MODIFIED:20241009T083233Z
UID:3807-1728469800-1728469800@whitechurchparish.com
SUMMARY:Holy Communion
DESCRIPTION:
URL:https://whitechurchparish.com/event/holy-communion-84/
END:VEVENT
BEGIN:VEVENT
DTSTART;TZID=UTC:20241006T103000
DTEND;TZID=UTC:20241006T103000
DTSTAMP:20260423T092826
CREATED:20240715T114056Z
LAST-MODIFIED:20240715T114056Z
UID:3645-1728210600-1728210600@whitechurchparish.com
SUMMARY:Blessing of Pets
DESCRIPTION:
URL:https://whitechurchparish.com/event/blessing-of-pets/
END:VEVENT
BEGIN:VEVENT
DTSTART;TZID=UTC:20241002T103000
DTEND;TZID=UTC:20241002T103000
DTSTAMP:20260423T092826
CREATED:20240826T092248Z
LAST-MODIFIED:20240826T092248Z
UID:3716-1727865000-1727865000@whitechurchparish.com
SUMMARY:Holy Communion
DESCRIPTION:
URL:https://whitechurchparish.com/event/holy-communion-83/
END:VEVENT
BEGIN:VEVENT
DTSTART;TZID=UTC:20240929T103000
DTEND;TZID=UTC:20240929T103000
DTSTAMP:20260423T092826
CREATED:20240801T110910Z
LAST-MODIFIED:20240801T110910Z
UID:3695-1727605800-1727605800@whitechurchparish.com
SUMMARY:Service of the Word
DESCRIPTION:
URL:https://whitechurchparish.com/event/service-of-the-word-2/
END:VEVENT
BEGIN:VEVENT
DTSTART;TZID=UTC:20240929T083000
DTEND;TZID=UTC:20240929T083000
DTSTAMP:20260423T092826
CREATED:20240801T110823Z
LAST-MODIFIED:20240801T110823Z
UID:3693-1727598600-1727598600@whitechurchparish.com
SUMMARY:Holy Communion
DESCRIPTION:
URL:https://whitechurchparish.com/event/holy-communion-77/
END:VEVENT
BEGIN:VEVENT
DTSTART;TZID=UTC:20240925T103000
DTEND;TZID=UTC:20240925T103000
DTSTAMP:20260423T092826
CREATED:20240826T092158Z
LAST-MODIFIED:20240826T092158Z
UID:3714-1727260200-1727260200@whitechurchparish.com
SUMMARY:Holy Communion
DESCRIPTION:
URL:https://whitechurchparish.com/event/holy-communion-82/
END:VEVENT
BEGIN:VEVENT
DTSTART;TZID=UTC:20240922T103000
DTEND;TZID=UTC:20240922T103000
DTSTAMP:20260423T092826
CREATED:20240801T110753Z
LAST-MODIFIED:20240801T110753Z
UID:3691-1727001000-1727001000@whitechurchparish.com
SUMMARY:Morning Prayer
DESCRIPTION:
URL:https://whitechurchparish.com/event/morning-prayer-17/
END:VEVENT
BEGIN:VEVENT
DTSTART;TZID=UTC:20240922T103000
DTEND;TZID=UTC:20240922T103000
DTSTAMP:20260423T092826
CREATED:20240715T105658Z
LAST-MODIFIED:20240715T105658Z
UID:3643-1727001000-1727001000@whitechurchparish.com
SUMMARY:Back to Church and School Sunday Service and BBQ
DESCRIPTION:
URL:https://whitechurchparish.com/event/back-to-church-and-school-sunday-service-and-bbq/
END:VEVENT
BEGIN:VEVENT
DTSTART;TZID=UTC:20240922T083000
DTEND;TZID=UTC:20240922T083000
DTSTAMP:20260423T092826
CREATED:20240801T110701Z
LAST-MODIFIED:20240801T110701Z
UID:3689-1726993800-1726993800@whitechurchparish.com
SUMMARY:Holy Communion
DESCRIPTION:
URL:https://whitechurchparish.com/event/holy-communion-76/
END:VEVENT
BEGIN:VEVENT
DTSTART;TZID=UTC:20240921T190000
DTEND;TZID=UTC:20240921T190000
DTSTAMP:20260423T092826
CREATED:20240715T105439Z
LAST-MODIFIED:20240715T105439Z
UID:3641-1726945200-1726945200@whitechurchparish.com
SUMMARY:Dublin and Glendalough Youth Council Service - Christ Church Cathedral
DESCRIPTION:
URL:https://whitechurchparish.com/event/dublin-and-glendalough-youth-council-service-christ-church-cathedral/
END:VEVENT
BEGIN:VEVENT
DTSTART;TZID=UTC:20240918T103000
DTEND;TZID=UTC:20240918T103000
DTSTAMP:20260423T092826
CREATED:20240826T091841Z
LAST-MODIFIED:20240826T091841Z
UID:3709-1726655400-1726655400@whitechurchparish.com
SUMMARY:Holy Communion
DESCRIPTION:
URL:https://whitechurchparish.com/event/holy-communion-80/
END:VEVENT
BEGIN:VEVENT
DTSTART;TZID=UTC:20240915T103000
DTEND;TZID=UTC:20240915T103000
DTSTAMP:20260423T092826
CREATED:20240801T110619Z
LAST-MODIFIED:20240801T110619Z
UID:3687-1726396200-1726396200@whitechurchparish.com
SUMMARY:Holy Communion
DESCRIPTION:
URL:https://whitechurchparish.com/event/holy-communion-75/
END:VEVENT
BEGIN:VEVENT
DTSTART;TZID=UTC:20240915T083000
DTEND;TZID=UTC:20240915T083000
DTSTAMP:20260423T092826
CREATED:20240801T110535Z
LAST-MODIFIED:20240801T110535Z
UID:3685-1726389000-1726389000@whitechurchparish.com
SUMMARY:Holy Communion
DESCRIPTION:
URL:https://whitechurchparish.com/event/holy-communion-74/
END:VEVENT
BEGIN:VEVENT
DTSTART;TZID=UTC:20240911T103000
DTEND;TZID=UTC:20240911T103000
DTSTAMP:20260423T092826
CREATED:20240826T091803Z
LAST-MODIFIED:20240826T091803Z
UID:3707-1726050600-1726050600@whitechurchparish.com
SUMMARY:Holy Communion
DESCRIPTION:
URL:https://whitechurchparish.com/event/holy-communion-79/
END:VEVENT
BEGIN:VEVENT
DTSTART;TZID=UTC:20240908T103000
DTEND;TZID=UTC:20240908T103000
DTSTAMP:20260423T092826
CREATED:20240801T110452Z
LAST-MODIFIED:20240801T110452Z
UID:3683-1725791400-1725791400@whitechurchparish.com
SUMMARY:Morning Prayer
DESCRIPTION:
URL:https://whitechurchparish.com/event/morning-prayer-16/
END:VEVENT
BEGIN:VEVENT
DTSTART;TZID=UTC:20240908T083000
DTEND;TZID=UTC:20240908T083000
DTSTAMP:20260423T092826
CREATED:20240801T110415Z
LAST-MODIFIED:20240801T110415Z
UID:3681-1725784200-1725784200@whitechurchparish.com
SUMMARY:Holy Communion
DESCRIPTION:
URL:https://whitechurchparish.com/event/holy-communion-73/
END:VEVENT
BEGIN:VEVENT
DTSTART;TZID=UTC:20240904T103000
DTEND;TZID=UTC:20240904T103000
DTSTAMP:20260423T092826
CREATED:20240826T092118Z
LAST-MODIFIED:20240826T092118Z
UID:3712-1725445800-1725445800@whitechurchparish.com
SUMMARY:Holy Communion
DESCRIPTION:
URL:https://whitechurchparish.com/event/holy-communion-81/
END:VEVENT
BEGIN:VEVENT
DTSTART;TZID=UTC:20240901T103000
DTEND;TZID=UTC:20240901T103000
DTSTAMP:20260423T092826
CREATED:20240801T110344Z
LAST-MODIFIED:20240801T110344Z
UID:3679-1725186600-1725186600@whitechurchparish.com
SUMMARY:Holy Communion
DESCRIPTION:
URL:https://whitechurchparish.com/event/holy-communion-72/
END:VEVENT
BEGIN:VEVENT
DTSTART;TZID=UTC:20240901T083000
DTEND;TZID=UTC:20240901T083000
DTSTAMP:20260423T092826
CREATED:20240801T110313Z
LAST-MODIFIED:20240801T110313Z
UID:3677-1725179400-1725179400@whitechurchparish.com
SUMMARY:Holy Communion
DESCRIPTION:
URL:https://whitechurchparish.com/event/holy-communion-71/
END:VEVENT
BEGIN:VEVENT
DTSTART;TZID=UTC:20240828T103000
DTEND;TZID=UTC:20240828T103000
DTSTAMP:20260423T092826
CREATED:20240826T091636Z
LAST-MODIFIED:20240826T091636Z
UID:3705-1724841000-1724841000@whitechurchparish.com
SUMMARY:Holy Communion
DESCRIPTION:
URL:https://whitechurchparish.com/event/holy-communion-78/
END:VEVENT
BEGIN:VEVENT
DTSTART;TZID=UTC:20240825T103000
DTEND;TZID=UTC:20240825T103000
DTSTAMP:20260423T092826
CREATED:20240801T110151Z
LAST-MODIFIED:20240801T110151Z
UID:3675-1724581800-1724581800@whitechurchparish.com
SUMMARY:Morning Prayer
DESCRIPTION:
URL:https://whitechurchparish.com/event/morning-prayer-15/
END:VEVENT
BEGIN:VEVENT
DTSTART;TZID=UTC:20240825T083000
DTEND;TZID=UTC:20240825T083000
DTSTAMP:20260423T092826
CREATED:20240801T110114Z
LAST-MODIFIED:20240801T110114Z
UID:3673-1724574600-1724574600@whitechurchparish.com
SUMMARY:Holy Communion
DESCRIPTION:
URL:https://whitechurchparish.com/event/holy-communion-70/
END:VEVENT
BEGIN:VEVENT
DTSTART;TZID=UTC:20240818T103000
DTEND;TZID=UTC:20240818T103000
DTSTAMP:20260423T092826
CREATED:20240801T110001Z
LAST-MODIFIED:20240801T110001Z
UID:3669-1723977000-1723977000@whitechurchparish.com
SUMMARY:Holy Communion with Holy Baptism
DESCRIPTION:
URL:https://whitechurchparish.com/event/holy-communion-with-holy-baptism-2/
END:VEVENT
BEGIN:VEVENT
DTSTART;TZID=UTC:20240818T083000
DTEND;TZID=UTC:20240818T083000
DTSTAMP:20260423T092826
CREATED:20240801T110029Z
LAST-MODIFIED:20240801T110029Z
UID:3671-1723969800-1723969800@whitechurchparish.com
SUMMARY:Holy Communion
DESCRIPTION:
URL:https://whitechurchparish.com/event/holy-communion-69/
END:VEVENT
BEGIN:VEVENT
DTSTART;TZID=UTC:20240811T103000
DTEND;TZID=UTC:20240811T103000
DTSTAMP:20260423T092826
CREATED:20240801T105841Z
LAST-MODIFIED:20240801T105841Z
UID:3667-1723372200-1723372200@whitechurchparish.com
SUMMARY:Morning Prayer
DESCRIPTION:
URL:https://whitechurchparish.com/event/morning-prayer-14/
END:VEVENT
END:VCALENDAR