BEGIN:VCALENDAR
VERSION:2.0
PRODID:-//WhiteChurch Parish - ECPv6.15.16//NONSGML v1.0//EN
CALSCALE:GREGORIAN
METHOD:PUBLISH
X-WR-CALNAME:WhiteChurch Parish
X-ORIGINAL-URL:https://whitechurchparish.com
X-WR-CALDESC:Events for WhiteChurch Parish
REFRESH-INTERVAL;VALUE=DURATION:PT1H
X-Robots-Tag:noindex
X-PUBLISHED-TTL:PT1H
BEGIN:VTIMEZONE
TZID:UTC
BEGIN:STANDARD
TZOFFSETFROM:+0000
TZOFFSETTO:+0000
TZNAME:UTC
DTSTART:20230101T000000
END:STANDARD
END:VTIMEZONE
BEGIN:VEVENT
DTSTART;TZID=UTC:20240619T103000
DTEND;TZID=UTC:20240619T103000
DTSTAMP:20260423T025742
CREATED:20240611T102406Z
LAST-MODIFIED:20240611T102406Z
UID:3580-1718793000-1718793000@whitechurchparish.com
SUMMARY:Holy Communion
DESCRIPTION:
URL:https://whitechurchparish.com/event/holy-communion-53/
END:VEVENT
BEGIN:VEVENT
DTSTART;TZID=UTC:20240616T103000
DTEND;TZID=UTC:20240616T103000
DTSTAMP:20260423T025742
CREATED:20240604T102031Z
LAST-MODIFIED:20240604T102031Z
UID:3515-1718533800-1718533800@whitechurchparish.com
SUMMARY:Holy Communion
DESCRIPTION:
URL:https://whitechurchparish.com/event/holy-communion-51/
END:VEVENT
BEGIN:VEVENT
DTSTART;TZID=UTC:20240616T083000
DTEND;TZID=UTC:20240616T083000
DTSTAMP:20260423T025742
CREATED:20240604T101923Z
LAST-MODIFIED:20240604T101923Z
UID:3511-1718526600-1718526600@whitechurchparish.com
SUMMARY:Holy Communion
DESCRIPTION:
URL:https://whitechurchparish.com/event/holy-communion-49/
END:VEVENT
BEGIN:VEVENT
DTSTART;TZID=UTC:20240612T103000
DTEND;TZID=UTC:20240612T103000
DTSTAMP:20260423T025742
CREATED:20240611T102022Z
LAST-MODIFIED:20240611T102022Z
UID:3576-1718188200-1718188200@whitechurchparish.com
SUMMARY:Holy Communion
DESCRIPTION:
URL:https://whitechurchparish.com/event/holy-communion-52/
END:VEVENT
BEGIN:VEVENT
DTSTART;TZID=UTC:20240609T103000
DTEND;TZID=UTC:20240609T103000
DTSTAMP:20260423T025742
CREATED:20240604T102114Z
LAST-MODIFIED:20240604T102754Z
UID:3517-1717929000-1717929000@whitechurchparish.com
SUMMARY:Morning Prayer
DESCRIPTION:
URL:https://whitechurchparish.com/event/morning-prayer-10/
END:VEVENT
BEGIN:VEVENT
DTSTART;TZID=UTC:20240609T083000
DTEND;TZID=UTC:20240609T083000
DTSTAMP:20260423T025742
CREATED:20240604T101849Z
LAST-MODIFIED:20240604T101849Z
UID:3509-1717921800-1717921800@whitechurchparish.com
SUMMARY:Holy Communion
DESCRIPTION:
URL:https://whitechurchparish.com/event/holy-communion-48/
END:VEVENT
BEGIN:VEVENT
DTSTART;TZID=UTC:20240605T103000
DTEND;TZID=UTC:20240605T103000
DTSTAMP:20260423T025742
CREATED:20240501T091643Z
LAST-MODIFIED:20240501T091643Z
UID:3385-1717583400-1717583400@whitechurchparish.com
SUMMARY:Holy Communion
DESCRIPTION:
URL:https://whitechurchparish.com/event/holy-communion-44/
END:VEVENT
BEGIN:VEVENT
DTSTART;TZID=UTC:20240602T103000
DTEND;TZID=UTC:20240602T103000
DTSTAMP:20260423T025742
CREATED:20240529T110311Z
LAST-MODIFIED:20240529T110311Z
UID:3468-1717324200-1717324200@whitechurchparish.com
SUMMARY:Holy Communion
DESCRIPTION:
URL:https://whitechurchparish.com/event/holy-communion-46/
END:VEVENT
BEGIN:VEVENT
DTSTART;TZID=UTC:20240602T083000
DTEND;TZID=UTC:20240602T083000
DTSTAMP:20260423T025742
CREATED:20240529T110219Z
LAST-MODIFIED:20240529T110219Z
UID:3466-1717317000-1717317000@whitechurchparish.com
SUMMARY:Holy Communion
DESCRIPTION:
URL:https://whitechurchparish.com/event/holy-communion-45/
END:VEVENT
BEGIN:VEVENT
DTSTART;TZID=UTC:20240529T103000
DTEND;TZID=UTC:20240529T103000
DTSTAMP:20260423T025742
CREATED:20240501T091606Z
LAST-MODIFIED:20240501T091606Z
UID:3383-1716978600-1716978600@whitechurchparish.com
SUMMARY:Holy Communion
DESCRIPTION:
URL:https://whitechurchparish.com/event/holy-communion-43/
END:VEVENT
BEGIN:VEVENT
DTSTART;TZID=UTC:20240526T150000
DTEND;TZID=UTC:20240526T160000
DTSTAMP:20260423T025742
CREATED:20240228T100851Z
LAST-MODIFIED:20240228T100854Z
UID:3164-1716735600-1716739200@whitechurchparish.com
SUMMARY:Cantando Choir Concert
DESCRIPTION:Held in the Church
URL:https://whitechurchparish.com/event/cantando-choir-concert/
END:VEVENT
BEGIN:VEVENT
DTSTART;TZID=UTC:20240526T103000
DTEND;TZID=UTC:20240526T103000
DTSTAMP:20260423T025742
CREATED:20240501T085430Z
LAST-MODIFIED:20240501T085430Z
UID:3374-1716719400-1716719400@whitechurchparish.com
SUMMARY:Morning Prayer
DESCRIPTION:
URL:https://whitechurchparish.com/event/morning-prayer-9/
END:VEVENT
BEGIN:VEVENT
DTSTART;TZID=UTC:20240526T083000
DTEND;TZID=UTC:20240526T083000
DTSTAMP:20260423T025742
CREATED:20240501T084343Z
LAST-MODIFIED:20240501T084343Z
UID:3369-1716712200-1716712200@whitechurchparish.com
SUMMARY:Holy Communion
DESCRIPTION:
URL:https://whitechurchparish.com/event/holy-communion-40/
END:VEVENT
BEGIN:VEVENT
DTSTART;TZID=UTC:20240525T093000
DTEND;TZID=UTC:20240525T093000
DTSTAMP:20260423T025742
CREATED:20240228T100612Z
LAST-MODIFIED:20240228T100615Z
UID:3162-1716629400-1716629400@whitechurchparish.com
SUMMARY:Ladies Breakfast - The Stables
DESCRIPTION:
URL:https://whitechurchparish.com/event/ladies-breakfast-the-stables/
END:VEVENT
BEGIN:VEVENT
DTSTART;TZID=UTC:20240522T103000
DTEND;TZID=UTC:20240522T103000
DTSTAMP:20260423T025742
CREATED:20240501T091525Z
LAST-MODIFIED:20240501T091525Z
UID:3381-1716373800-1716373800@whitechurchparish.com
SUMMARY:Holy Communion
DESCRIPTION:
URL:https://whitechurchparish.com/event/holy-communion-42/
END:VEVENT
BEGIN:VEVENT
DTSTART;TZID=UTC:20240519T103000
DTEND;TZID=UTC:20240519T103000
DTSTAMP:20260423T025742
CREATED:20240501T084242Z
LAST-MODIFIED:20240501T084242Z
UID:3365-1716114600-1716114600@whitechurchparish.com
SUMMARY:Holy Communion
DESCRIPTION:
URL:https://whitechurchparish.com/event/holy-communion-38/
END:VEVENT
BEGIN:VEVENT
DTSTART;TZID=UTC:20240519T083000
DTEND;TZID=UTC:20240519T083000
DTSTAMP:20260423T025742
CREATED:20240501T084310Z
LAST-MODIFIED:20240501T092117Z
UID:3367-1716107400-1716107400@whitechurchparish.com
SUMMARY:Holy Communion
DESCRIPTION:
URL:https://whitechurchparish.com/event/holy-communion-39/
END:VEVENT
BEGIN:VEVENT
DTSTART;TZID=UTC:20240517T193000
DTEND;TZID=UTC:20240517T223000
DTSTAMP:20260423T025742
CREATED:20240508T093405Z
LAST-MODIFIED:20240508T093525Z
UID:3433-1715974200-1715985000@whitechurchparish.com
SUMMARY:Quiz Night
DESCRIPTION:Whitechurch Parish and School. \nSt. John’s GAA Club\, Ballinteer\, D16 DK76
URL:https://whitechurchparish.com/event/quiz-night/
END:VEVENT
BEGIN:VEVENT
DTSTART;TZID=UTC:20240515T103000
DTEND;TZID=UTC:20240515T103000
DTSTAMP:20260423T025742
CREATED:20240501T091456Z
LAST-MODIFIED:20240501T091456Z
UID:3379-1715769000-1715769000@whitechurchparish.com
SUMMARY:Holy Communion
DESCRIPTION:
URL:https://whitechurchparish.com/event/holy-communion-41/
END:VEVENT
BEGIN:VEVENT
DTSTART;TZID=UTC:20240512T103000
DTEND;TZID=UTC:20240512T103000
DTSTAMP:20260423T025742
CREATED:20240501T084101Z
LAST-MODIFIED:20240501T084101Z
UID:3359-1715509800-1715509800@whitechurchparish.com
SUMMARY:Morning Prayer
DESCRIPTION:
URL:https://whitechurchparish.com/event/morning-prayer-7/
END:VEVENT
BEGIN:VEVENT
DTSTART;TZID=UTC:20240512T101500
DTEND;TZID=UTC:20240512T101500
DTSTAMP:20260423T025742
CREATED:20240228T100455Z
LAST-MODIFIED:20240228T100500Z
UID:3160-1715508900-1715508900@whitechurchparish.com
SUMMARY:Confirmation Christ Church Taney
DESCRIPTION:
URL:https://whitechurchparish.com/event/confirmation-christ-church-taney/
END:VEVENT
BEGIN:VEVENT
DTSTART;TZID=UTC:20240512T083000
DTEND;TZID=UTC:20240512T083000
DTSTAMP:20260423T025742
CREATED:20240501T084135Z
LAST-MODIFIED:20240501T084135Z
UID:3361-1715502600-1715502600@whitechurchparish.com
SUMMARY:Holy Communion
DESCRIPTION:
URL:https://whitechurchparish.com/event/holy-communion-36/
END:VEVENT
BEGIN:VEVENT
DTSTART;TZID=UTC:20240509T103000
DTEND;TZID=UTC:20240509T103000
DTSTAMP:20260423T025742
CREATED:20240501T091423Z
LAST-MODIFIED:20240501T091423Z
UID:3377-1715250600-1715250600@whitechurchparish.com
SUMMARY:Holy Communion
DESCRIPTION:Ascension Thursday
URL:https://whitechurchparish.com/event/holy-communion-37/
END:VEVENT
BEGIN:VEVENT
DTSTART;TZID=UTC:20240505T103000
DTEND;TZID=UTC:20240505T103000
DTSTAMP:20260423T025742
CREATED:20240425T113552Z
LAST-MODIFIED:20240501T091806Z
UID:3340-1714905000-1714905000@whitechurchparish.com
SUMMARY:Holy Communion with Holy Baptism
DESCRIPTION:
URL:https://whitechurchparish.com/event/holy-communion-with-holy-baptism/
END:VEVENT
BEGIN:VEVENT
DTSTART;TZID=UTC:20240505T083000
DTEND;TZID=UTC:20240505T083000
DTSTAMP:20260423T025742
CREATED:20240425T113641Z
LAST-MODIFIED:20240501T091911Z
UID:3342-1714897800-1714897800@whitechurchparish.com
SUMMARY:Holy Communion
DESCRIPTION:
URL:https://whitechurchparish.com/event/holy-communion-35/
END:VEVENT
BEGIN:VEVENT
DTSTART;TZID=UTC:20240501T103000
DTEND;TZID=UTC:20240501T103000
DTSTAMP:20260423T025742
CREATED:20240501T085034Z
LAST-MODIFIED:20240501T085034Z
UID:3371-1714559400-1714559400@whitechurchparish.com
SUMMARY:Morning Prayer
DESCRIPTION:
URL:https://whitechurchparish.com/event/morning-prayer-8/
END:VEVENT
BEGIN:VEVENT
DTSTART;TZID=UTC:20240428T103000
DTEND;TZID=UTC:20240428T103000
DTSTAMP:20260423T025742
CREATED:20240402T084951Z
LAST-MODIFIED:20240402T084951Z
UID:3284-1714300200-1714300200@whitechurchparish.com
SUMMARY:Morning Prayer
DESCRIPTION:
URL:https://whitechurchparish.com/event/morning-prayer-6/
END:VEVENT
BEGIN:VEVENT
DTSTART;TZID=UTC:20240428T083000
DTEND;TZID=UTC:20240428T083000
DTSTAMP:20260423T025742
CREATED:20240402T084911Z
LAST-MODIFIED:20240402T084911Z
UID:3282-1714293000-1714293000@whitechurchparish.com
SUMMARY:Holy Communion
DESCRIPTION:
URL:https://whitechurchparish.com/event/holy-communion-34/
END:VEVENT
BEGIN:VEVENT
DTSTART;TZID=UTC:20240427T120000
DTEND;TZID=UTC:20240427T153000
DTSTAMP:20260423T025742
CREATED:20240228T100313Z
LAST-MODIFIED:20240228T100316Z
UID:3158-1714219200-1714231800@whitechurchparish.com
SUMMARY:Whitechurch Fete
DESCRIPTION:Held In Whitechurch National School
URL:https://whitechurchparish.com/event/whitechurch-fete/
END:VEVENT
BEGIN:VEVENT
DTSTART;TZID=UTC:20240421T103000
DTEND;TZID=UTC:20240421T103000
DTSTAMP:20260423T025742
CREATED:20240402T084825Z
LAST-MODIFIED:20240402T084825Z
UID:3280-1713695400-1713695400@whitechurchparish.com
SUMMARY:Holy Communion
DESCRIPTION:
URL:https://whitechurchparish.com/event/holy-communion-33/
END:VEVENT
END:VCALENDAR