BEGIN:VCALENDAR
VERSION:2.0
PRODID:-//WhiteChurch Parish - ECPv6.15.16//NONSGML v1.0//EN
CALSCALE:GREGORIAN
METHOD:PUBLISH
X-WR-CALNAME:WhiteChurch Parish
X-ORIGINAL-URL:https://whitechurchparish.com
X-WR-CALDESC:Events for WhiteChurch Parish
REFRESH-INTERVAL;VALUE=DURATION:PT1H
X-Robots-Tag:noindex
X-PUBLISHED-TTL:PT1H
BEGIN:VTIMEZONE
TZID:UTC
BEGIN:STANDARD
TZOFFSETFROM:+0000
TZOFFSETTO:+0000
TZNAME:UTC
DTSTART:20220101T000000
END:STANDARD
END:VTIMEZONE
BEGIN:VEVENT
DTSTART;TZID=UTC:20240329T190000
DTEND;TZID=UTC:20240329T190000
DTSTAMP:20260423T093701
CREATED:20240227T110503Z
LAST-MODIFIED:20240228T094258Z
UID:3123-1711738800-1711738800@whitechurchparish.com
SUMMARY:Good Friday - Holy Communion
DESCRIPTION:Guest Preacher: Dr. Rev’d Canon Maurice Elliott Director Church of Ireland Theological Institute
URL:https://whitechurchparish.com/event/good-friday-holy-communion/
END:VEVENT
BEGIN:VEVENT
DTSTART;TZID=UTC:20240328T190000
DTEND;TZID=UTC:20240328T190000
DTSTAMP:20260423T093701
CREATED:20240227T110417Z
LAST-MODIFIED:20240228T094240Z
UID:3121-1711652400-1711652400@whitechurchparish.com
SUMMARY:Maundy Thursday - Holy Communion
DESCRIPTION:Guest Preacher: Dr. Rev’d Canon Maurice Elliott Director Church of Ireland Theological Institute
URL:https://whitechurchparish.com/event/maundy-thursday-holy-communion/
END:VEVENT
BEGIN:VEVENT
DTSTART;TZID=UTC:20240327T190000
DTEND;TZID=UTC:20240327T190000
DTSTAMP:20260423T093701
CREATED:20240227T110330Z
LAST-MODIFIED:20240228T094202Z
UID:3119-1711566000-1711566000@whitechurchparish.com
SUMMARY:Wednesday in Holy Week - Holy Communion
DESCRIPTION:Guest Preacher: Dr. Rev’d Canon Maurice Elliott Director Church of Ireland Theological Institute
URL:https://whitechurchparish.com/event/wednesday-in-holy-week-holy-communion/
END:VEVENT
BEGIN:VEVENT
DTSTART;TZID=UTC:20240327T103000
DTEND;TZID=UTC:20240327T103000
DTSTAMP:20260423T093701
CREATED:20240227T105042Z
LAST-MODIFIED:20240227T111707Z
UID:3106-1711535400-1711535400@whitechurchparish.com
SUMMARY:Wednesday in Holy Week - Holy Communion
DESCRIPTION:
URL:https://whitechurchparish.com/event/wednesday-in-holy-week/
END:VEVENT
BEGIN:VEVENT
DTSTART;TZID=UTC:20240324T103000
DTEND;TZID=UTC:20240324T103000
DTSTAMP:20260423T093701
CREATED:20240227T104759Z
LAST-MODIFIED:20240228T093500Z
UID:3103-1711276200-1711276200@whitechurchparish.com
SUMMARY:Palm Sunday - Morning Prayer
DESCRIPTION:Procession from Old Schools led by Dolly the Donkey
URL:https://whitechurchparish.com/event/morning-prayer-5/
END:VEVENT
BEGIN:VEVENT
DTSTART;TZID=UTC:20240324T083000
DTEND;TZID=UTC:20240324T083000
DTSTAMP:20260423T093701
CREATED:20240227T104629Z
LAST-MODIFIED:20240227T111544Z
UID:3101-1711269000-1711269000@whitechurchparish.com
SUMMARY:Palm Sunday - Holy Communion
DESCRIPTION:
URL:https://whitechurchparish.com/event/morning-prayer-4/
END:VEVENT
BEGIN:VEVENT
DTSTART;TZID=UTC:20240322T103000
DTEND;TZID=UTC:20240322T130000
DTSTAMP:20260423T093701
CREATED:20240228T093321Z
LAST-MODIFIED:20240228T100740Z
UID:3141-1711103400-1711112400@whitechurchparish.com
SUMMARY:Daffodil Day Coffee Morning
DESCRIPTION:
URL:https://whitechurchparish.com/event/daffodil-day-coffee-morning/
END:VEVENT
BEGIN:VEVENT
DTSTART;TZID=UTC:20240320T103000
DTEND;TZID=UTC:20240320T103000
DTSTAMP:20260423T093701
CREATED:20240227T105632Z
LAST-MODIFIED:20240227T105635Z
UID:3114-1710930600-1710930600@whitechurchparish.com
SUMMARY:Holy Communion
DESCRIPTION:
URL:https://whitechurchparish.com/event/holy-communion-27/
END:VEVENT
BEGIN:VEVENT
DTSTART;TZID=UTC:20240317T103000
DTEND;TZID=UTC:20240317T103000
DTSTAMP:20260423T093701
CREATED:20240227T104432Z
LAST-MODIFIED:20240227T111316Z
UID:3099-1710671400-1710671400@whitechurchparish.com
SUMMARY:St. Patrick's Day - Holy Communion
DESCRIPTION:
URL:https://whitechurchparish.com/event/holy-communion-23/
END:VEVENT
BEGIN:VEVENT
DTSTART;TZID=UTC:20240317T083000
DTEND;TZID=UTC:20240317T083000
DTSTAMP:20260423T093701
CREATED:20240227T104236Z
LAST-MODIFIED:20240227T105923Z
UID:3097-1710664200-1710664200@whitechurchparish.com
SUMMARY:St. Patrick's Day - Holy Communion
DESCRIPTION:St. Patrick’s Day
URL:https://whitechurchparish.com/event/holy-communion-22/
END:VEVENT
BEGIN:VEVENT
DTSTART;TZID=UTC:20240313T103000
DTEND;TZID=UTC:20240313T103000
DTSTAMP:20260423T093701
CREATED:20240227T105553Z
LAST-MODIFIED:20240227T105604Z
UID:3112-1710325800-1710325800@whitechurchparish.com
SUMMARY:Holy Communion
DESCRIPTION:
URL:https://whitechurchparish.com/event/holy-communion-26/
END:VEVENT
BEGIN:VEVENT
DTSTART;TZID=UTC:20240310T103000
DTEND;TZID=UTC:20240310T103000
DTSTAMP:20260423T093701
CREATED:20240227T103813Z
LAST-MODIFIED:20240227T111450Z
UID:3093-1710066600-1710066600@whitechurchparish.com
SUMMARY:Mothering Sunday - Morning Prayer
DESCRIPTION:Fourth Sunday in Lent
URL:https://whitechurchparish.com/event/morning-prayer-2/
END:VEVENT
BEGIN:VEVENT
DTSTART;TZID=UTC:20240310T083000
DTEND;TZID=UTC:20240310T083000
DTSTAMP:20260423T093701
CREATED:20240227T104103Z
LAST-MODIFIED:20240227T111357Z
UID:3095-1710059400-1710059400@whitechurchparish.com
SUMMARY:Mothering Sunday - Holy Communion
DESCRIPTION:
URL:https://whitechurchparish.com/event/morning-prayer-3/
END:VEVENT
BEGIN:VEVENT
DTSTART;TZID=UTC:20240309T091500
DTEND;TZID=UTC:20240309T110000
DTSTAMP:20260423T093701
CREATED:20240228T095744Z
LAST-MODIFIED:20240228T095959Z
UID:3153-1709975700-1709982000@whitechurchparish.com
SUMMARY:Men's Breakfast Grange Golf Club
DESCRIPTION:Speaker Mark Boobbyer
URL:https://whitechurchparish.com/event/mens-breakfast-grange-golf-club/
END:VEVENT
BEGIN:VEVENT
DTSTART;TZID=UTC:20240306T103000
DTEND;TZID=UTC:20240306T103000
DTSTAMP:20260423T093701
CREATED:20240227T105515Z
LAST-MODIFIED:20240227T105519Z
UID:3110-1709721000-1709721000@whitechurchparish.com
SUMMARY:Holy Communion
DESCRIPTION:
URL:https://whitechurchparish.com/event/holy-communion-25/
END:VEVENT
BEGIN:VEVENT
DTSTART;TZID=UTC:20240303T103000
DTEND;TZID=UTC:20240303T103000
DTSTAMP:20260423T093701
CREATED:20240227T102009Z
LAST-MODIFIED:20240227T111101Z
UID:3091-1709461800-1709461800@whitechurchparish.com
SUMMARY:Holy Communion
DESCRIPTION:The Third Sunday in Lent
URL:https://whitechurchparish.com/event/holy-communion-21/
END:VEVENT
BEGIN:VEVENT
DTSTART;TZID=UTC:20240303T083000
DTEND;TZID=UTC:20240303T083000
DTSTAMP:20260423T093701
CREATED:20240227T101749Z
LAST-MODIFIED:20240227T111033Z
UID:3089-1709454600-1709454600@whitechurchparish.com
SUMMARY:Holy Communion
DESCRIPTION:
URL:https://whitechurchparish.com/event/holy-communion-20/
END:VEVENT
BEGIN:VEVENT
DTSTART;TZID=UTC:20240301T193000
DTEND;TZID=UTC:20240301T193000
DTSTAMP:20260423T093701
CREATED:20240228T101200Z
LAST-MODIFIED:20240228T101200Z
UID:3168-1709321400-1709321400@whitechurchparish.com
SUMMARY:World Day of Prayer - Divine Word\, Marley
DESCRIPTION:
URL:https://whitechurchparish.com/event/world-day-of-prayer-divine-word-marley/
END:VEVENT
BEGIN:VEVENT
DTSTART;TZID=UTC:20240228T103000
DTEND;TZID=UTC:20240228T103000
DTSTAMP:20260423T093701
CREATED:20240227T105431Z
LAST-MODIFIED:20240227T105435Z
UID:3108-1709116200-1709116200@whitechurchparish.com
SUMMARY:Holy Communion
DESCRIPTION:
URL:https://whitechurchparish.com/event/holy-communion-24/
END:VEVENT
BEGIN:VEVENT
DTSTART;TZID=UTC:20240225T103000
DTEND;TZID=UTC:20240225T103000
DTSTAMP:20260423T093701
CREATED:20240208T145351Z
LAST-MODIFIED:20240208T145351Z
UID:3059-1708857000-1708857000@whitechurchparish.com
SUMMARY:Mlorning Prayer
DESCRIPTION:
URL:https://whitechurchparish.com/event/mlorning-prayer/
END:VEVENT
BEGIN:VEVENT
DTSTART;TZID=UTC:20240225T083000
DTEND;TZID=UTC:20240225T083000
DTSTAMP:20260423T093701
CREATED:20240208T145258Z
LAST-MODIFIED:20240208T145258Z
UID:3057-1708849800-1708849800@whitechurchparish.com
SUMMARY:Holy Communion
DESCRIPTION:
URL:https://whitechurchparish.com/event/holy-communion-19/
END:VEVENT
BEGIN:VEVENT
DTSTART;TZID=UTC:20240221T083000
DTEND;TZID=UTC:20240221T083000
DTSTAMP:20260423T093701
CREATED:20240208T145219Z
LAST-MODIFIED:20240208T145219Z
UID:3055-1708504200-1708504200@whitechurchparish.com
SUMMARY:Holy Communion
DESCRIPTION:
URL:https://whitechurchparish.com/event/holy-communion-18/
END:VEVENT
BEGIN:VEVENT
DTSTART;TZID=UTC:20240218T103000
DTEND;TZID=UTC:20240218T223000
DTSTAMP:20260423T093701
CREATED:20240208T143604Z
LAST-MODIFIED:20240208T145041Z
UID:3053-1708252200-1708295400@whitechurchparish.com
SUMMARY:Holy Communion
DESCRIPTION:
URL:https://whitechurchparish.com/event/holy-communion-17/
END:VEVENT
BEGIN:VEVENT
DTSTART;TZID=UTC:20240218T083000
DTEND;TZID=UTC:20240218T083000
DTSTAMP:20260423T093701
CREATED:20240208T143518Z
LAST-MODIFIED:20240208T143518Z
UID:3051-1708245000-1708245000@whitechurchparish.com
SUMMARY:Holy Communion
DESCRIPTION:
URL:https://whitechurchparish.com/event/holy-communion-16/
END:VEVENT
BEGIN:VEVENT
DTSTART;TZID=UTC:20240214T103000
DTEND;TZID=UTC:20240214T223000
DTSTAMP:20260423T093701
CREATED:20240208T143445Z
LAST-MODIFIED:20240208T143445Z
UID:3049-1707906600-1707949800@whitechurchparish.com
SUMMARY:Ash Wednesday - Holy Communion
DESCRIPTION:
URL:https://whitechurchparish.com/event/ash-wednesday-holy-communion/
END:VEVENT
BEGIN:VEVENT
DTSTART;TZID=UTC:20240211T103000
DTEND;TZID=UTC:20240211T223000
DTSTAMP:20260423T093701
CREATED:20240208T143300Z
LAST-MODIFIED:20240208T143300Z
UID:3047-1707647400-1707690600@whitechurchparish.com
SUMMARY:Morning Prayer
DESCRIPTION:
URL:https://whitechurchparish.com/event/morning-prayer/
END:VEVENT
BEGIN:VEVENT
DTSTART;TZID=UTC:20240211T083000
DTEND;TZID=UTC:20240211T083000
DTSTAMP:20260423T093701
CREATED:20240208T143035Z
LAST-MODIFIED:20240208T143212Z
UID:3044-1707640200-1707640200@whitechurchparish.com
SUMMARY:Holy Communion
DESCRIPTION:
URL:https://whitechurchparish.com/event/holy-communion-15/
END:VEVENT
BEGIN:VEVENT
DTSTART;TZID=UTC:20231225T103000
DTEND;TZID=UTC:20231225T103000
DTSTAMP:20260423T093701
CREATED:20231208T015759Z
LAST-MODIFIED:20231208T015802Z
UID:2886-1703500200-1703500200@whitechurchparish.com
SUMMARY:Holy Communion - Christmas Day
DESCRIPTION:
URL:https://whitechurchparish.com/event/holy-communion-christmas-day-2/
END:VEVENT
BEGIN:VEVENT
DTSTART;TZID=UTC:20231225T083000
DTEND;TZID=UTC:20231225T083000
DTSTAMP:20260423T093701
CREATED:20231208T015656Z
LAST-MODIFIED:20231208T015700Z
UID:2884-1703493000-1703493000@whitechurchparish.com
SUMMARY:Holy Communion - Christmas Day
DESCRIPTION:
URL:https://whitechurchparish.com/event/holy-communion-christmas-day/
END:VEVENT
BEGIN:VEVENT
DTSTART;TZID=UTC:20231224T230000
DTEND;TZID=UTC:20231224T230000
DTSTAMP:20260423T093701
CREATED:20231208T015358Z
LAST-MODIFIED:20231208T015503Z
UID:2881-1703458800-1703458800@whitechurchparish.com
SUMMARY:Holy Communion
DESCRIPTION:
URL:https://whitechurchparish.com/event/holy-communion-14/
END:VEVENT
END:VCALENDAR