BEGIN:VCALENDAR
VERSION:2.0
PRODID:-//WhiteChurch Parish - ECPv6.15.16//NONSGML v1.0//EN
CALSCALE:GREGORIAN
METHOD:PUBLISH
X-WR-CALNAME:WhiteChurch Parish
X-ORIGINAL-URL:https://whitechurchparish.com
X-WR-CALDESC:Events for WhiteChurch Parish
REFRESH-INTERVAL;VALUE=DURATION:PT1H
X-Robots-Tag:noindex
X-PUBLISHED-TTL:PT1H
BEGIN:VTIMEZONE
TZID:UTC
BEGIN:STANDARD
TZOFFSETFROM:+0000
TZOFFSETTO:+0000
TZNAME:UTC
DTSTART:20220101T000000
END:STANDARD
END:VTIMEZONE
BEGIN:VEVENT
DTSTART;TZID=UTC:20231225T083000
DTEND;TZID=UTC:20231225T083000
DTSTAMP:20260423T204550
CREATED:20231208T015656Z
LAST-MODIFIED:20231208T015700Z
UID:2884-1703493000-1703493000@whitechurchparish.com
SUMMARY:Holy Communion - Christmas Day
DESCRIPTION:
URL:https://whitechurchparish.com/event/holy-communion-christmas-day/
END:VEVENT
BEGIN:VEVENT
DTSTART;TZID=UTC:20231224T230000
DTEND;TZID=UTC:20231224T230000
DTSTAMP:20260423T204550
CREATED:20231208T015358Z
LAST-MODIFIED:20231208T015503Z
UID:2881-1703458800-1703458800@whitechurchparish.com
SUMMARY:Holy Communion
DESCRIPTION:
URL:https://whitechurchparish.com/event/holy-communion-14/
END:VEVENT
BEGIN:VEVENT
DTSTART;TZID=UTC:20231224T163000
DTEND;TZID=UTC:20231224T163000
DTSTAMP:20260423T204550
CREATED:20231208T015301Z
LAST-MODIFIED:20231208T015305Z
UID:2879-1703435400-1703435400@whitechurchparish.com
SUMMARY:Children's Crib Service
DESCRIPTION:
URL:https://whitechurchparish.com/event/childrens-crib-service/
END:VEVENT
BEGIN:VEVENT
DTSTART;TZID=UTC:20231224T083000
DTEND;TZID=UTC:20231224T083000
DTSTAMP:20260423T204550
CREATED:20231208T015159Z
LAST-MODIFIED:20231208T015203Z
UID:2877-1703406600-1703406600@whitechurchparish.com
SUMMARY:Holy Communion
DESCRIPTION:
URL:https://whitechurchparish.com/event/holy-communion-13/
END:VEVENT
BEGIN:VEVENT
DTSTART;TZID=UTC:20231223T160000
DTEND;TZID=UTC:20231223T160000
DTSTAMP:20260423T204550
CREATED:20231208T014934Z
LAST-MODIFIED:20231208T014939Z
UID:2875-1703347200-1703347200@whitechurchparish.com
SUMMARY:Ecumenical Carol Service - Marlay Park
DESCRIPTION:
URL:https://whitechurchparish.com/event/ecumenical-carol-service-marlay-park/
END:VEVENT
BEGIN:VEVENT
DTSTART;TZID=UTC:20231217T163000
DTEND;TZID=UTC:20231217T163000
DTSTAMP:20260423T204550
CREATED:20231208T014814Z
LAST-MODIFIED:20231208T014819Z
UID:2873-1702830600-1702830600@whitechurchparish.com
SUMMARY:9 Lessons and Carols
DESCRIPTION:
URL:https://whitechurchparish.com/event/9-lessons-and-carols/
END:VEVENT
BEGIN:VEVENT
DTSTART;TZID=UTC:20231217T083000
DTEND;TZID=UTC:20231217T083000
DTSTAMP:20260423T204550
CREATED:20231208T014710Z
LAST-MODIFIED:20231208T014715Z
UID:2871-1702801800-1702801800@whitechurchparish.com
SUMMARY:Holy Communion
DESCRIPTION:
URL:https://whitechurchparish.com/event/holy-communion-12/
END:VEVENT
BEGIN:VEVENT
DTSTART;TZID=UTC:20231210T103000
DTEND;TZID=UTC:20231210T103000
DTSTAMP:20260423T204550
CREATED:20231208T014515Z
LAST-MODIFIED:20231208T014547Z
UID:2867-1702204200-1702204200@whitechurchparish.com
SUMMARY:Morning Service Live Streaming on RTE
DESCRIPTION:
URL:https://whitechurchparish.com/event/morning-service-live-streaming-on-rte/
END:VEVENT
BEGIN:VEVENT
DTSTART;TZID=UTC:20231210T083000
DTEND;TZID=UTC:20231210T083000
DTSTAMP:20260423T204550
CREATED:20231208T014350Z
LAST-MODIFIED:20231208T014354Z
UID:2865-1702197000-1702197000@whitechurchparish.com
SUMMARY:Holy Communion
DESCRIPTION:
URL:https://whitechurchparish.com/event/holy-communion-11/
END:VEVENT
BEGIN:VEVENT
DTSTART;TZID=UTC:20231129T103000
DTEND;TZID=UTC:20231129T103000
DTSTAMP:20260423T204550
CREATED:20230918T225855Z
LAST-MODIFIED:20230918T225855Z
UID:2224-1701253800-1701253800@whitechurchparish.com
SUMMARY:Holy Communion
DESCRIPTION:Holy Communion
URL:https://whitechurchparish.com/event/holy-communion-9/
END:VEVENT
BEGIN:VEVENT
DTSTART;TZID=UTC:20231126T103000
DTEND;TZID=UTC:20231126T103000
DTSTAMP:20260423T204550
CREATED:20230918T225803Z
LAST-MODIFIED:20230918T225803Z
UID:2221-1700994600-1700994600@whitechurchparish.com
SUMMARY:The Kingship of Christ
DESCRIPTION:Morning Prayer
URL:https://whitechurchparish.com/event/the-kingship-of-christ-2/
END:VEVENT
BEGIN:VEVENT
DTSTART;TZID=UTC:20231126T083000
DTEND;TZID=UTC:20231126T083000
DTSTAMP:20260423T204550
CREATED:20230918T225702Z
LAST-MODIFIED:20230918T225702Z
UID:2219-1700987400-1700987400@whitechurchparish.com
SUMMARY:The Kingship of Christ
DESCRIPTION:Holy Communion
URL:https://whitechurchparish.com/event/the-kingship-of-christ/
END:VEVENT
BEGIN:VEVENT
DTSTART;TZID=UTC:20231122T103000
DTEND;TZID=UTC:20231122T103000
DTSTAMP:20260423T204550
CREATED:20230918T225556Z
LAST-MODIFIED:20230918T225556Z
UID:2217-1700649000-1700649000@whitechurchparish.com
SUMMARY:Holy Communion
DESCRIPTION:Holy Communion
URL:https://whitechurchparish.com/event/holy-communion-8/
END:VEVENT
BEGIN:VEVENT
DTSTART;TZID=UTC:20231119T103000
DTEND;TZID=UTC:20231119T103000
DTSTAMP:20260423T204550
CREATED:20230918T225442Z
LAST-MODIFIED:20230918T225442Z
UID:2215-1700389800-1700389800@whitechurchparish.com
SUMMARY:2nd Sunday before Advent
DESCRIPTION:Holy Communion
URL:https://whitechurchparish.com/event/2nd-sunday-before-advent-2/
END:VEVENT
BEGIN:VEVENT
DTSTART;TZID=UTC:20231119T083000
DTEND;TZID=UTC:20231119T083000
DTSTAMP:20260423T204550
CREATED:20230918T225352Z
LAST-MODIFIED:20230918T225352Z
UID:2213-1700382600-1700382600@whitechurchparish.com
SUMMARY:2nd Sunday before Advent
DESCRIPTION:Holy Communion
URL:https://whitechurchparish.com/event/2nd-sunday-before-advent/
END:VEVENT
BEGIN:VEVENT
DTSTART;TZID=UTC:20231115T103000
DTEND;TZID=UTC:20231115T103000
DTSTAMP:20260423T204550
CREATED:20230918T225251Z
LAST-MODIFIED:20230918T225251Z
UID:2211-1700044200-1700044200@whitechurchparish.com
SUMMARY:Holy Communion
DESCRIPTION:Holy Communion
URL:https://whitechurchparish.com/event/holy-communion-7/
END:VEVENT
BEGIN:VEVENT
DTSTART;TZID=UTC:20231112T103000
DTEND;TZID=UTC:20231112T103000
DTSTAMP:20260423T204550
CREATED:20230918T225049Z
LAST-MODIFIED:20230918T225049Z
UID:2208-1699785000-1699785000@whitechurchparish.com
SUMMARY:3rd Sunday before Advent
DESCRIPTION:Morning Prayer (Remberance Sunday)
URL:https://whitechurchparish.com/event/3rd-sunday-before-advent-2/
END:VEVENT
BEGIN:VEVENT
DTSTART;TZID=UTC:20231112T083000
DTEND;TZID=UTC:20231112T170000
DTSTAMP:20260423T204550
CREATED:20230918T224936Z
LAST-MODIFIED:20230918T224936Z
UID:2206-1699777800-1699808400@whitechurchparish.com
SUMMARY:3rd Sunday before Advent
DESCRIPTION:Holy Communion (Remberance Sunday)
URL:https://whitechurchparish.com/event/3rd-sunday-before-advent/
END:VEVENT
BEGIN:VEVENT
DTSTART;TZID=UTC:20231108T103000
DTEND;TZID=UTC:20231108T103000
DTSTAMP:20260423T204550
CREATED:20230918T224749Z
LAST-MODIFIED:20230918T224749Z
UID:2204-1699439400-1699439400@whitechurchparish.com
SUMMARY:Holy Communion
DESCRIPTION:Holy Communion
URL:https://whitechurchparish.com/event/holy-communion-6/
END:VEVENT
BEGIN:VEVENT
DTSTART;TZID=UTC:20231105T103000
DTEND;TZID=UTC:20231105T103000
DTSTAMP:20260423T204550
CREATED:20230918T224634Z
LAST-MODIFIED:20230918T224634Z
UID:2202-1699180200-1699180200@whitechurchparish.com
SUMMARY:4th Sunday before Advent
DESCRIPTION:Holy Communion
URL:https://whitechurchparish.com/event/4th-sunday-before-advent-2/
END:VEVENT
BEGIN:VEVENT
DTSTART;TZID=UTC:20231105T083000
DTEND;TZID=UTC:20231105T083000
DTSTAMP:20260423T204550
CREATED:20230918T224407Z
LAST-MODIFIED:20230918T224407Z
UID:2200-1699173000-1699173000@whitechurchparish.com
SUMMARY:4th Sunday before Advent
DESCRIPTION:Holy Communion
URL:https://whitechurchparish.com/event/4th-sunday-before-advent/
END:VEVENT
BEGIN:VEVENT
DTSTART;TZID=UTC:20231101T103000
DTEND;TZID=UTC:20231101T103000
DTSTAMP:20260423T204550
CREATED:20230918T224309Z
LAST-MODIFIED:20230918T224309Z
UID:2198-1698834600-1698834600@whitechurchparish.com
SUMMARY:Holy Communion
DESCRIPTION:Holy Communion
URL:https://whitechurchparish.com/event/holy-communion-5/
END:VEVENT
BEGIN:VEVENT
DTSTART;TZID=UTC:20231029T103000
DTEND;TZID=UTC:20231029T103000
DTSTAMP:20260423T204550
CREATED:20230918T224039Z
LAST-MODIFIED:20230918T224039Z
UID:2196-1698575400-1698575400@whitechurchparish.com
SUMMARY:5th Sunday before Advent
DESCRIPTION:Service of the Word
URL:https://whitechurchparish.com/event/5th-sunday-before-advent-2/
END:VEVENT
BEGIN:VEVENT
DTSTART;TZID=UTC:20231029T083000
DTEND;TZID=UTC:20231029T083000
DTSTAMP:20260423T204550
CREATED:20230918T223937Z
LAST-MODIFIED:20230918T223937Z
UID:2194-1698568200-1698568200@whitechurchparish.com
SUMMARY:5th Sunday before Advent
DESCRIPTION:Holy Communion
URL:https://whitechurchparish.com/event/5th-sunday-before-advent/
END:VEVENT
BEGIN:VEVENT
DTSTART;TZID=UTC:20231025T103000
DTEND;TZID=UTC:20231025T103000
DTSTAMP:20260423T204550
CREATED:20230918T223741Z
LAST-MODIFIED:20230918T223741Z
UID:2192-1698229800-1698229800@whitechurchparish.com
SUMMARY:Holy Communion
DESCRIPTION:Holy Communion
URL:https://whitechurchparish.com/event/holy-communion-4/
END:VEVENT
BEGIN:VEVENT
DTSTART;TZID=UTC:20231022T193000
DTEND;TZID=UTC:20231022T193000
DTSTAMP:20260423T204550
CREATED:20230918T223521Z
LAST-MODIFIED:20230918T223521Z
UID:2190-1698003000-1698003000@whitechurchparish.com
SUMMARY:20th Sunday after Trinity
DESCRIPTION:Harvest Festival ( Preacher Ruth O’Kelly – Rector of Clane Union) \nRefreshments served in Old Schools after the Service
URL:https://whitechurchparish.com/event/20th-sunday-after-trinity/
END:VEVENT
BEGIN:VEVENT
DTSTART;TZID=UTC:20231022T103000
DTEND;TZID=UTC:20231022T103000
DTSTAMP:20260423T204550
CREATED:20230918T220021Z
LAST-MODIFIED:20230918T220021Z
UID:2187-1697970600-1697970600@whitechurchparish.com
SUMMARY:20th Sunday after Trinity - No Service this Morning
DESCRIPTION:No Service this Morning
URL:https://whitechurchparish.com/event/20th-sunday-after-trinity-3/
END:VEVENT
BEGIN:VEVENT
DTSTART;TZID=UTC:20231022T083000
DTEND;TZID=UTC:20231022T083000
DTSTAMP:20260423T204550
CREATED:20230918T215846Z
LAST-MODIFIED:20230918T215846Z
UID:2185-1697963400-1697963400@whitechurchparish.com
SUMMARY:20th Sunday after Trinity
DESCRIPTION:Holy Communion
URL:https://whitechurchparish.com/event/20th-sunday-after-trinity-2/
END:VEVENT
BEGIN:VEVENT
DTSTART;TZID=UTC:20231018T083000
DTEND;TZID=UTC:20231018T083000
DTSTAMP:20260423T204550
CREATED:20230918T214934Z
LAST-MODIFIED:20230918T214934Z
UID:2178-1697617800-1697617800@whitechurchparish.com
SUMMARY:St Luke's Day
DESCRIPTION:Holy Communion
URL:https://whitechurchparish.com/event/st-lukes-day/
END:VEVENT
BEGIN:VEVENT
DTSTART;TZID=UTC:20231015T183000
DTEND;TZID=UTC:20231015T183000
DTSTAMP:20260423T204550
CREATED:20230918T214533Z
LAST-MODIFIED:20230918T214533Z
UID:2176-1697394600-1697394600@whitechurchparish.com
SUMMARY:19th Sunday after Trinity
DESCRIPTION:Children’s & Youth Harvest (Preacher – Dean Isobel Jackson) \nRefreshments in Old Schools after the service
URL:https://whitechurchparish.com/event/19th-sunday-after-trinity-2/
END:VEVENT
END:VCALENDAR