BEGIN:VCALENDAR
VERSION:2.0
PRODID:-//WhiteChurch Parish - ECPv6.15.16//NONSGML v1.0//EN
CALSCALE:GREGORIAN
METHOD:PUBLISH
X-WR-CALNAME:WhiteChurch Parish
X-ORIGINAL-URL:https://whitechurchparish.com
X-WR-CALDESC:Events for WhiteChurch Parish
REFRESH-INTERVAL;VALUE=DURATION:PT1H
X-Robots-Tag:noindex
X-PUBLISHED-TTL:PT1H
BEGIN:VTIMEZONE
TZID:UTC
BEGIN:STANDARD
TZOFFSETFROM:+0000
TZOFFSETTO:+0000
TZNAME:UTC
DTSTART:20220101T000000
END:STANDARD
END:VTIMEZONE
BEGIN:VEVENT
DTSTART;TZID=UTC:20231015T103000
DTEND;TZID=UTC:20231015T103000
DTSTAMP:20260425T102318
CREATED:20230918T214137Z
LAST-MODIFIED:20230918T214137Z
UID:2173-1697365800-1697365800@whitechurchparish.com
SUMMARY:19th Sunday after Trinity
DESCRIPTION:Holy Communion
URL:https://whitechurchparish.com/event/holy-communion-3/
END:VEVENT
BEGIN:VEVENT
DTSTART;TZID=UTC:20231015T083000
DTEND;TZID=UTC:20231015T083000
DTSTAMP:20260425T102318
CREATED:20230918T213939Z
LAST-MODIFIED:20230918T213939Z
UID:2171-1697358600-1697358600@whitechurchparish.com
SUMMARY:19th Sunday after Trinity
DESCRIPTION:Holy Communion
URL:https://whitechurchparish.com/event/19th-sunday-after-trinity/
END:VEVENT
BEGIN:VEVENT
DTSTART;TZID=UTC:20231011T103000
DTEND;TZID=UTC:20231011T103000
DTSTAMP:20260425T102318
CREATED:20230918T213546Z
LAST-MODIFIED:20230918T213546Z
UID:2168-1697020200-1697020200@whitechurchparish.com
SUMMARY:St Philip the Deacon
DESCRIPTION:Holy Communion
URL:https://whitechurchparish.com/event/st-philip-the-deacon/
END:VEVENT
BEGIN:VEVENT
DTSTART;TZID=UTC:20231008T103000
DTEND;TZID=UTC:20231008T103000
DTSTAMP:20260425T102318
CREATED:20230918T213307Z
LAST-MODIFIED:20230918T213307Z
UID:2166-1696761000-1696761000@whitechurchparish.com
SUMMARY:18th Sunday after Trinity
DESCRIPTION:Holy Communion (Rector on Retreat)
URL:https://whitechurchparish.com/event/18th-sunday-after-trinity-2/
END:VEVENT
BEGIN:VEVENT
DTSTART;TZID=UTC:20231008T083000
DTEND;TZID=UTC:20231008T083000
DTSTAMP:20260425T102318
CREATED:20230918T213108Z
LAST-MODIFIED:20230918T213108Z
UID:2163-1696753800-1696753800@whitechurchparish.com
SUMMARY:18th Sunday after Trinity
DESCRIPTION:Holy Communion (Rector on Retreat)
URL:https://whitechurchparish.com/event/18th-sunday-after-trinity/
END:VEVENT
BEGIN:VEVENT
DTSTART;TZID=UTC:20231004T103000
DTEND;TZID=UTC:20231004T103000
DTSTAMP:20260425T102318
CREATED:20230918T212903Z
LAST-MODIFIED:20230918T212903Z
UID:2161-1696415400-1696415400@whitechurchparish.com
SUMMARY:Holy Communion
DESCRIPTION:Holy Communion (Rector on Retreat)
URL:https://whitechurchparish.com/event/holy-communion-2/
END:VEVENT
BEGIN:VEVENT
DTSTART;TZID=UTC:20231001T103000
DTEND;TZID=UTC:20231001T103000
DTSTAMP:20260425T102318
CREATED:20230918T212703Z
LAST-MODIFIED:20230918T212703Z
UID:2159-1696156200-1696156200@whitechurchparish.com
SUMMARY:17th Sunday after Trinity
DESCRIPTION:Holy Communion and \nSunday Club
URL:https://whitechurchparish.com/event/17th-sunday-after-trinity-2/
END:VEVENT
BEGIN:VEVENT
DTSTART;TZID=UTC:20231001T083000
DTEND;TZID=UTC:20231001T083000
DTSTAMP:20260425T102318
CREATED:20230918T212559Z
LAST-MODIFIED:20230918T212559Z
UID:2157-1696149000-1696149000@whitechurchparish.com
SUMMARY:17th Sunday after Trinity
DESCRIPTION:Holy Communion
URL:https://whitechurchparish.com/event/17th-sunday-after-trinity/
END:VEVENT
BEGIN:VEVENT
DTSTART;TZID=UTC:20230927T103000
DTEND;TZID=UTC:20230927T103000
DTSTAMP:20260425T102318
CREATED:20230918T212406Z
LAST-MODIFIED:20230918T212406Z
UID:2155-1695810600-1695810600@whitechurchparish.com
SUMMARY:Holy Communion
DESCRIPTION:
URL:https://whitechurchparish.com/event/holy-communion/
END:VEVENT
BEGIN:VEVENT
DTSTART;TZID=UTC:20230924T103000
DTEND;TZID=UTC:20230924T103000
DTSTAMP:20260425T102318
CREATED:20230918T212234Z
LAST-MODIFIED:20230918T212234Z
UID:2153-1695551400-1695551400@whitechurchparish.com
SUMMARY:16th Sunday after Trinity
DESCRIPTION:Morning Prayer and talk on Rwanda
URL:https://whitechurchparish.com/event/16th-sunday-after-trinity-2/
END:VEVENT
BEGIN:VEVENT
DTSTART;TZID=UTC:20230924T083000
DTEND;TZID=UTC:20230924T083000
DTSTAMP:20260425T102318
CREATED:20230918T211828Z
LAST-MODIFIED:20230918T211828Z
UID:2151-1695544200-1695544200@whitechurchparish.com
SUMMARY:16th Sunday after Trinity
DESCRIPTION:Holy Communion
URL:https://whitechurchparish.com/event/16th-sunday-after-trinity/
END:VEVENT
END:VCALENDAR